BEGIN:VCALENDAR
PRODID:NingEventWidget-v1
VERSION:2.0
METHOD:PUBLISH
BEGIN:VTIMEZONE
TZID:America/New_York
X-LIC-LOCATION:America/New_York
BEGIN:DAYLIGHT
TZOFFSETFROM:-0500
TZOFFSETTO:-0400
TZNAME:EDT
DTSTART:19700308T020000
RRULE:FREQ=YEARLY;BYMONTH=3;BYDAY=2SU
END:DAYLIGHT
BEGIN:STANDARD
TZOFFSETFROM:-0400
TZOFFSETTO:-0500
TZNAME:EST
DTSTART:19701101T020000
RRULE:FREQ=YEARLY;BYMONTH=11;BYDAY=1SU
END:STANDARD
END:VTIMEZONE
BEGIN:VEVENT
UID:1990010:Event:59132
DTSTAMP:20260422T150604Z
SUMMARY:Your Classroom and the Common Core State Standards (CCSS): Lit
 eracy in the Intermediate Grades
DESCRIPTION: \n \n\n Wednesday, August 31st: Your Classroom and th
 e Common Core State Standards (CCSS): Literacy in the Intermediate Gra
 des\n (Click on the above link or open the attached document for f
 urther details)\n\nConstruct mini-lessons which address the CCSS\nImpl
 ement “read-alouds” in the classroom to meet the new rigors of the
  CCSS\nLearn techniques for effective guided reading strategies\nMake 
 student conferencing richer and more meaningful\n\n \n\n \nRobin Ell
 iser Eastern Suffolk BOCES Federal and State School Support Initiati
 ves Early Reading First Project Manager 15 Andrea Road Holbrook, NY
  11741 ph: 631-218-4125 fx: 631-218-4127 cell: 631-553-6582\n\n\
 n\n\n\n\n\n\n\n\n\n\n\n\n\n\n\n\nCommon%20Core%20Standards%20Workshop%
 20Gr%203-5%20flyer.pdf\n\nFor more information visit https://schoollea
 dership20.com/events/your-classroom-and-the-common-core-state-standard
 s-ccss-literacy-
DTSTART;TZID=America/New_York:20110831T083000
DTEND;TZID=America/New_York:20110831T153000
CATEGORIES:workshop
LOCATION:Sherwood Corporate Center 15 Andrea Road Holbrook, NY 11741
WEBSITE:
URL:
CONTACT:
ORGANIZER:Robin Elliser
ATTACH;FMTTYPE="image/jpeg":
ATTENDEE;ROLE=REQ-PARTICIPANT;PARTSTAT=ACCEPTED;RSVP=TRUE;CN="Michael 
 Keany":https://schoolleadership20.com/profile/MichaelKeany91
END:VEVENT
END:VCALENDAR
