BEGIN:VCALENDAR
PRODID:NingEventWidget-v1
VERSION:2.0
METHOD:PUBLISH
BEGIN:VTIMEZONE
TZID:America/New_York
X-LIC-LOCATION:America/New_York
BEGIN:DAYLIGHT
TZOFFSETFROM:-0500
TZOFFSETTO:-0400
TZNAME:EDT
DTSTART:19700308T020000
RRULE:FREQ=YEARLY;BYMONTH=3;BYDAY=2SU
END:DAYLIGHT
BEGIN:STANDARD
TZOFFSETFROM:-0400
TZOFFSETTO:-0500
TZNAME:EST
DTSTART:19701101T020000
RRULE:FREQ=YEARLY;BYMONTH=11;BYDAY=1SU
END:STANDARD
END:VTIMEZONE
BEGIN:VEVENT
UID:1990010:Event:35224
DTSTAMP:20260422T050647Z
SUMMARY:What an Educator Needs to Know About Islam
DESCRIPTION:On Tuesday, April 12th,Phi Delta Kappa Chapter 1524 will h
 ost an insightful, free program\nat the C.W. Post Campus, Long Island
  Room, Winnick Center, from4:30-6:30p.m.  Zeshan Hamid will presen
 t: What an Educator Needs to Know About Islam.  To reserve your seat
 , please contact Nicole Doran at pdkeventcoordinator@gmail.com by 
 April 6th.\n\nFor more information visit https://schoolleadership20.co
 m/events/what-an-educator-needs-to-know
DTSTART;TZID=America/New_York:20110412T163000
DTEND;TZID=America/New_York:20110412T183000
CATEGORIES:seminar
LOCATION:C.W. Post Campus, Long Island Room, Winnick Center
WEBSITE:
URL:
CONTACT:Nicole Doran at pdkeventcoordinator@gmail.com
ORGANIZER:Phi Delta Kappa Chapter 1524
ATTACH;FMTTYPE="image/jpeg":
ATTENDEE;ROLE=REQ-PARTICIPANT;PARTSTAT=ACCEPTED;RSVP=TRUE;CN="Michael 
 Keany":https://schoolleadership20.com/profile/MichaelKeany91
END:VEVENT
END:VCALENDAR
