BEGIN:VCALENDAR
PRODID:NingEventWidget-v1
VERSION:2.0
METHOD:PUBLISH
BEGIN:VTIMEZONE
TZID:America/New_York
X-LIC-LOCATION:America/New_York
BEGIN:DAYLIGHT
TZOFFSETFROM:-0500
TZOFFSETTO:-0400
TZNAME:EDT
DTSTART:19700308T020000
RRULE:FREQ=YEARLY;BYMONTH=3;BYDAY=2SU
END:DAYLIGHT
BEGIN:STANDARD
TZOFFSETFROM:-0400
TZOFFSETTO:-0500
TZNAME:EST
DTSTART:19701101T020000
RRULE:FREQ=YEARLY;BYMONTH=11;BYDAY=1SU
END:STANDARD
END:VTIMEZONE
BEGIN:VEVENT
UID:1990010:Event:33030
DTSTAMP:20260420T104545Z
SUMMARY:Virtual Workshop with Michael Keany - The Ten Most Difficult I
 nterview Questions
DESCRIPTION:In response to those many people who wished they could hav
 e attended \"How to Get Your First Administrative Job\" recently given
  by Michael Keany at Western Suffolk BOCES, we are pleased to announce
  the first virtual workshop on School Leadership 2.0, \"The Ten Most D
 ifficult Interview Questions\" which will be given live online on:\n\n
 February 22, 2011 from 7 PM to 9 PM\nMarch 7, 2011 from 7 PM to 9 PM\n
 May 9, 2011 from 7 PM to 9 PM\n\nRegistration link: http://www.eventb
 rite.com/event/1364317711\nMike will share the ten toughest questions 
 most frequently asked in interview situations and guide participants t
 o the formulation of their own unique answers.  The fee for the progr
 am is $50.  However, School Leadership 2.0 will offer a discounted ra
 te of $25 to paid members.  (Hint:  It makes sense to pay the combin
 ed membership fee ($19.95)/workshop fee ($25.00) for a total of $44.95
 .)  You'll have a savings of over $5.00, and you'll be eligible for d
 iscounted fees for members when future workshops are offered.\nThis is
  an online event.  Once registered you will receive the link with add
 itional instructions.\nSee you online!School Leadership 2.0\nFOLLOW US
  ON\n  \n\n\nFor more information visit https://schoolleadership20.c
 om/events/virtual-workshop-with-michael
DTSTART;TZID=America/New_York:20110307T190000
DTEND;TZID=America/New_York:20110307T210000
CATEGORIES:elluminate
LOCATION:Online with Elluminate
WEBSITE:http://www.eventbrite.com/event/1364317711
URL:http://www.eventbrite.com/event/1364317711
CONTACT:
ORGANIZER:William Brennan & Michael Keany (School Leadership 2.0)
ATTACH;FMTTYPE="image/jpeg":http://storage.ning.com/topology/rest/1.0/
 file/get/2254128436?profile=original
ATTENDEE;ROLE=REQ-PARTICIPANT;PARTSTAT=ACCEPTED;RSVP=TRUE;CN="Suzanne 
 Hulme":https://schoolleadership20.com/profile/SuzanneHulme
ATTENDEE;ROLE=REQ-PARTICIPANT;PARTSTAT=ACCEPTED;RSVP=TRUE;CN="William 
 Brennan, Ed.D.":https://schoolleadership20.com/profile/BillBrennan
END:VEVENT
END:VCALENDAR
