BEGIN:VCALENDAR
PRODID:NingEventWidget-v1
VERSION:2.0
METHOD:PUBLISH
BEGIN:VTIMEZONE
TZID:America/New_York
X-LIC-LOCATION:America/New_York
BEGIN:DAYLIGHT
TZOFFSETFROM:-0500
TZOFFSETTO:-0400
TZNAME:EDT
DTSTART:19700308T020000
RRULE:FREQ=YEARLY;BYMONTH=3;BYDAY=2SU
END:DAYLIGHT
BEGIN:STANDARD
TZOFFSETFROM:-0400
TZOFFSETTO:-0500
TZNAME:EST
DTSTART:19701101T020000
RRULE:FREQ=YEARLY;BYMONTH=11;BYDAY=1SU
END:STANDARD
END:VTIMEZONE
BEGIN:VEVENT
UID:1990010:Event:112340
DTSTAMP:20260420T022456Z
SUMMARY:Using Multiple Measures for Local Accountability and Instructi
 onal Improvement
DESCRIPTION:You wouldn't think of making most of your important life d
 ecisions, like buying a house or selecting a medical procedure, on the
  basis of a single measure. You would typically use multiple assessmen
 ts to make these decisions. The same logic holds for schools, especial
 ly since schooling includes numerous and very different outcomes: acad
 emic content and skills, practical and fine arts, health and nutrition
 , social skills, psychological skills, citizenship, and more. In simpl
 e terms, multiple measures means using more than one assessment and on
 e assessment score to make judgments about individual students, classe
 s, schools, and school districts. Join us for a two-day exploration (M
 ARCH 5 and 6, 2013)of the most current practices in educational asses
 sment with Karin Hess, a nationally recognized leader in this field. F
 ocus on using Multiple Measures for instructional improvement by...\n\
 ndeveloping your understanding of the appropriate uses and interpretat
 ion of information gained from multiple assessment measures,\ndevelopi
 ng a shared  understanding of content alignment and Depth of Knowledg
 e/Cognitive Rigor as applied to implementing the Common Core, and\nref
 ine your local assessment system blueprint for using multiple assessme
 nt measures for different purposes.\n\nClick on the following link for
  detailed information and registration form:\nhttp://www.grazmorassoci
 ates.com/MULTIPLE_MEASURES_Flier_-_March_2013.pdf\n\n \n \n \n\nFor
  more information visit https://schoolleadership20.com/events/using-mu
 ltiple-measures-for-local-accountability-and
DTSTART;TZID=America/New_York:20130305T000000
DTEND;TZID=America/New_York:20130306T235900
CATEGORIES:professional, development, program
LOCATION:TBD
WEBSITE:
URL:
CONTACT:914 831-8058
ORGANIZER:GRAZMOR ASSOCIATES, Inc.
ATTACH;FMTTYPE="image/jpeg":
ATTENDEE;ROLE=REQ-PARTICIPANT;PARTSTAT=ACCEPTED;RSVP=TRUE;CN="James Mo
 rgan":https://schoolleadership20.com/profile/JamesMorgan
END:VEVENT
END:VCALENDAR
