BEGIN:VCALENDAR
PRODID:NingEventWidget-v1
VERSION:2.0
METHOD:PUBLISH
BEGIN:VTIMEZONE
TZID:America/New_York
X-LIC-LOCATION:America/New_York
BEGIN:DAYLIGHT
TZOFFSETFROM:-0500
TZOFFSETTO:-0400
TZNAME:EDT
DTSTART:19700308T020000
RRULE:FREQ=YEARLY;BYMONTH=3;BYDAY=2SU
END:DAYLIGHT
BEGIN:STANDARD
TZOFFSETFROM:-0400
TZOFFSETTO:-0500
TZNAME:EST
DTSTART:19701101T020000
RRULE:FREQ=YEARLY;BYMONTH=11;BYDAY=1SU
END:STANDARD
END:VTIMEZONE
BEGIN:VEVENT
UID:1990010:Event:131738
DTSTAMP:20260420T113511Z
SUMMARY:TeachBoost Lunch & Learn Date: January 29, 2013
DESCRIPTION:We invite you to join us on January 29 to learn aboutÂ Tea
 chBoost,Â a web-based, framework-agnostic teacher observation and feed
 back platform that utilizes classroom observations to facilitate teach
 er growth and performance.Â TeachBoost is designed to help administrat
 ors manage the APPR process using iPads or laptops, thereby eliminatin
 g a lot of the paperwork.\nÂ \nEvent:Â TeachBoost Lunch & Learn\nDate:
  January 29, 2013\nTime: 12:00 â€“ 1:30 p.m.\nLocation: Nassau BOCES, 
 1 Merrick Avenue, Westbury\nRoom: Learning Studio 1\nÂ \nUse the follo
 wing link toÂ Register Online. Kindly forward this invitation to inter
 ested colleagues.Â Lunch provided courtesy of TeachBoost.\nÂ \nManage 
 Teacher Performance Your Way\nTeachBoost was designed from the ground 
 up alongside Principals in New York, focusing on continuous feedback b
 y leveraging iPads in the classroom. TeachBoost is fully flexible to s
 upport all instructional requirements while incorporating feedback poi
 ntsÂ specific to each teacher, school, or district.\nÂ \nClassroom Obs
 ervations\nTeachBoost takes your existing observation form or protocol
  to the cloud. Designed to work on both laptops and iPads, TeachBoost 
 allows you to rapidly gauge performance against any of the popular obs
 ervation frameworks while in the classroom.Â The schools we are curren
 tly working with in New York have completed thousands of observations 
 in the 2012-2013 school year alone.\nTeacher DevelopmentProfiles are b
 uilt for each teacher in your school. Using the teacher profile, you c
 an view all observations and classroom walkthroughs conducted over the
 ir career.Â Set teacher development goals during the evaluation proces
 sÂ and compare progress in the next classroom visit. Additionally, you
  can provide teachers with professional development resources and link
  them to individual points of feedback.\nTargetedÂ Professional Develo
 pment\nTeachBoost identifies strengths and weaknesses for individual t
 eachers as well as the entire school or district.Â Use reports to targ
 et specific areas for professional development for your school, or pro
 vide opportunities to employ Professional Learning Communities (PLCs)â
 €”pairing high performing teachers with developing teachers.\nÂ \nPeer
  Review\nTeachBoost allows for peer review in addition to Administrato
 r review for informal feedback and coaching. Peer review provides pers
 pective from colleagues and can be an added piece of developing teache
 rs into high performers.\nVisit theÂ TeachBoost web siteÂ for more inf
 ormation. We hope you can join us!\nÂ \nMatthew Hejna\nNassau BOCES\nN
 ASTECH\nGuidance Technology Support (GTS)\nmhejna@mail.nasboces.org\n5
 16.608.6648\n\nFor more information visit https://schoolleadership20.c
 om/events/teachboost-lunch-learn-date-january-29-2013
DTSTART;TZID=America/New_York:20130129T120000
DTEND;TZID=America/New_York:20130129T133000
CATEGORIES:lunch, and, learn
LOCATION:Nassau BOCES, 1 Merrick Avenue, Westbury, NY
WEBSITE:
URL:
CONTACT:
ORGANIZER:Nassau BOCES
ATTACH;FMTTYPE="image/jpeg":
ATTENDEE;ROLE=REQ-PARTICIPANT;PARTSTAT=ACCEPTED;RSVP=TRUE;CN="Michael 
 Keany":https://schoolleadership20.com/profile/MichaelKeany91
END:VEVENT
END:VCALENDAR
