BEGIN:VCALENDAR
PRODID:NingEventWidget-v1
VERSION:2.0
METHOD:PUBLISH
BEGIN:VTIMEZONE
TZID:America/New_York
X-LIC-LOCATION:America/New_York
BEGIN:DAYLIGHT
TZOFFSETFROM:-0500
TZOFFSETTO:-0400
TZNAME:EDT
DTSTART:19700308T020000
RRULE:FREQ=YEARLY;BYMONTH=3;BYDAY=2SU
END:DAYLIGHT
BEGIN:STANDARD
TZOFFSETFROM:-0400
TZOFFSETTO:-0500
TZNAME:EST
DTSTART:19701101T020000
RRULE:FREQ=YEARLY;BYMONTH=11;BYDAY=1SU
END:STANDARD
END:VTIMEZONE
BEGIN:VEVENT
UID:1990010:Event:30940
DTSTAMP:20260420T162002Z
SUMMARY:Suffolk County Middle Level Assistant Principal Association
DESCRIPTION:Suffolk County Middle Level Assistant Principal Associatio
 n will be meeting on March 4, 2011 at 8:30 am at the Cold Spring Harbo
 r Jr/Sr HS.  \n \nBruce Hoffman, Ed.D.\nAssistant Principal\nLindenh
 urst Middle School\n(631) 857 - 3506\n\nFor more information visit htt
 ps://schoolleadership20.com/events/suffolk-county-middle-level
DTSTART;TZID=America/New_York:20110304T083000
DTEND;TZID=America/New_York:20110304T100000
CATEGORIES:meeting
LOCATION:Cold Spring Harbor Jr/Sr HS
WEBSITE:
URL:
CONTACT:(631) 857 - 3506
ORGANIZER:Suffolk County Middle Level Assistant Principal Association
ATTACH;FMTTYPE="image/jpeg":
ATTENDEE;ROLE=REQ-PARTICIPANT;PARTSTAT=ACCEPTED;RSVP=TRUE;CN="Michael 
 Keany":https://schoolleadership20.com/profile/MichaelKeany91
END:VEVENT
END:VCALENDAR
