BEGIN:VCALENDAR
PRODID:NingEventWidget-v1
VERSION:2.0
METHOD:PUBLISH
BEGIN:VTIMEZONE
TZID:America/New_York
X-LIC-LOCATION:America/New_York
BEGIN:DAYLIGHT
TZOFFSETFROM:-0500
TZOFFSETTO:-0400
TZNAME:EDT
DTSTART:19700308T020000
RRULE:FREQ=YEARLY;BYMONTH=3;BYDAY=2SU
END:DAYLIGHT
BEGIN:STANDARD
TZOFFSETFROM:-0400
TZOFFSETTO:-0500
TZNAME:EST
DTSTART:19701101T020000
RRULE:FREQ=YEARLY;BYMONTH=11;BYDAY=1SU
END:STANDARD
END:VTIMEZONE
BEGIN:VEVENT
UID:1990010:Event:32906
DTSTAMP:20260420T123051Z
SUMMARY:Suffolk County Middle Level Assistant Principals Association
DESCRIPTION:The next meeting of the Suffolk County Middle Level Assist
 ant Principals Association will be held onÂ Friday, March 4, 2011Â atÂ
  Cold Spring Harbor Junior/Senior High School.Â  The meeting with begi
 n at 8:30 a.m. and light refreshments will be served.Â  Please see the
  agenda.Â  Please RSVP to Lauren Moreno @Â MorenoL@kpcsd.orgÂ  if you 
 are able to attend.Â  Thank you.\nAgenda\nÂ \nÂ \nI.Â  Welcome/Introdu
 ctions\nÂ \nÂ \nII.Â  Principals Association Report\nÂ \nÂ \nIII. APPR
  Evaluations\nÂ \nÂ \nIV.Â  Â  Social Emotional Literacy Programs\nÂ \
 nÂ \nV.Â  Future Meetings & Locations\nÂ \nÂ \n\nFor more information 
 visit https://schoolleadership20.com/events/suffolk-county-middle-leve
 l-1
DTSTART;TZID=America/New_York:20110304T083000
DTEND;TZID=America/New_York:20110304T103000
CATEGORIES:meeting
LOCATION:Cold Spring Harbor Junior/Senior High School
WEBSITE:
URL:
CONTACT:
ORGANIZER:Suffolk County Middle Level Assistant Principals Association
ATTACH;FMTTYPE="image/jpeg":
ATTENDEE;ROLE=REQ-PARTICIPANT;PARTSTAT=ACCEPTED;RSVP=TRUE;CN="Michael 
 Keany":https://schoolleadership20.com/profile/MichaelKeany91
END:VEVENT
END:VCALENDAR
