BEGIN:VCALENDAR
PRODID:NingEventWidget-v1
VERSION:2.0
METHOD:PUBLISH
BEGIN:VTIMEZONE
TZID:America/New_York
X-LIC-LOCATION:America/New_York
BEGIN:DAYLIGHT
TZOFFSETFROM:-0500
TZOFFSETTO:-0400
TZNAME:EDT
DTSTART:19700308T020000
RRULE:FREQ=YEARLY;BYMONTH=3;BYDAY=2SU
END:DAYLIGHT
BEGIN:STANDARD
TZOFFSETFROM:-0400
TZOFFSETTO:-0500
TZNAME:EST
DTSTART:19701101T020000
RRULE:FREQ=YEARLY;BYMONTH=11;BYDAY=1SU
END:STANDARD
END:VTIMEZONE
BEGIN:VEVENT
UID:1990010:Event:33745
DTSTAMP:20260420T090338Z
SUMMARY:Suffolk County Elementary Principal's Association Meeting
DESCRIPTION:There will be a Suffolk County Elementary Principal's Asso
 ciation Meeting on Friday, March 18th from 8:30 am to 10:30 am.  The
  meeting will be held at the Joseph A. Edgar School located at 525 Rou
 te 25A in Rocky Point.  The topic of the meeting will be integrating 
 technology across the curriculum.  Hope to see you there.\n \nJohn S
 timmel, Principal\n \nCherry Avenue Elementary School\n155 Cherry Ave
 nue\nWest Sayville, NY  11796\n \n631.244.6700 \n\n\nFor more infor
 mation visit https://schoolleadership20.com/events/suffolk-county-elem
 entary-1
DTSTART;TZID=America/New_York:20110310T180000
DTEND;TZID=America/New_York:20110310T190000
CATEGORIES:meeting
LOCATION:Joseph A. Edgar School
WEBSITE:
URL:
CONTACT:631.244.6700
ORGANIZER:Suffolk County Elementary Principal's Association
ATTACH;FMTTYPE="image/jpeg":
ATTENDEE;ROLE=REQ-PARTICIPANT;PARTSTAT=ACCEPTED;RSVP=TRUE;CN="Michael 
 Keany":https://schoolleadership20.com/profile/MichaelKeany91
END:VEVENT
END:VCALENDAR
