BEGIN:VCALENDAR
PRODID:NingEventWidget-v1
VERSION:2.0
METHOD:PUBLISH
BEGIN:VTIMEZONE
TZID:America/New_York
X-LIC-LOCATION:America/New_York
BEGIN:DAYLIGHT
TZOFFSETFROM:-0500
TZOFFSETTO:-0400
TZNAME:EDT
DTSTART:19700308T020000
RRULE:FREQ=YEARLY;BYMONTH=3;BYDAY=2SU
END:DAYLIGHT
BEGIN:STANDARD
TZOFFSETFROM:-0400
TZOFFSETTO:-0500
TZNAME:EST
DTSTART:19701101T020000
RRULE:FREQ=YEARLY;BYMONTH=11;BYDAY=1SU
END:STANDARD
END:VTIMEZONE
BEGIN:VEVENT
UID:1990010:Event:59673
DTSTAMP:20260422T132423Z
SUMMARY:Structuring Your Classroom to Support Literacy: An Interactive
  Workshop based on Debbie Diller's \"Spaces and Places: Designing Clas
 srooms for Literacy\"
DESCRIPTION:This workshop will facilitate teachers' application of the
  concepts presented in Debbie Diller's practical resource, Spaces & Pl
 aces. PreK-5th grade teachers will discover how to better manage a var
 iety of classroom spaces to support student learning and independence.
  They will learn how to create well-organized areas for whole group an
 d small group reading instruction, literacy work stations, teacher des
 ks, and storage areas. Please join us as we explore best practice in a
 ction through snapshots of real classrooms, anchor charts, literate en
 vironments... halls and walls that teach. Participants will learn the 
 answers to the tough questions educators ask, such as:\nR      Wh
 at do I really need in my room and what's the best way to set it up?\n
 R      How does my physical classroom impact student learning?\nR
       How can I make the most of the space I have?\nR      W
 hat are some “must haves” for kicking off the new year – must ha
 ve book list with titles to help build our learning communities?\n \n
 $125 registration fee includes a copy of Debbie Diller’s “Spaces a
 nd Places”\n \nCertificates of Attendance will be issued to all att
 endees confirming participation in 6 hours of professional development
  applicable, with your District’s approval, towards NYSED mandated 1
 75 hours.\n \nREGISTRATION must be done through MY LEARNING PLAN: htt
 p://webreg.esboces.org , search term: ‘Literacy’\nNote: Registrati
 ons and/or cancellations are due by FRIDAY, AUGUST 12, 2011. Districts
  (or individuals) will be billed unless cancellation is received by th
 is date. Late registrations will be accepted on a space-available basi
 s.\nQuestions? Email literacyevents@esboces.org or call Lynn M. Hayes,
  Program Secretary, 631.244.4013 \n\n\nFor more information visit htt
 ps://schoolleadership20.com/events/structuring-your-classroom-to-suppo
 rt-literacy-an-interactive
DTSTART;TZID=America/New_York:20110830T083000
DTEND;TZID=America/New_York:20110830T153000
CATEGORIES:structuring, your, classroom, to, support, literacy, worksh
 op
LOCATION:Eastern Suffolk BOCES - Sherwood Center
WEBSITE:http://webreg.esboces.org
URL:http://webreg.esboces.org
CONTACT:631.244.4013
ORGANIZER:
ATTACH;FMTTYPE="image/jpeg":
ATTENDEE;ROLE=REQ-PARTICIPANT;PARTSTAT=ACCEPTED;RSVP=TRUE;CN="Ellen Re
 cker":https://schoolleadership20.com/profile/EllenRecker
END:VEVENT
END:VCALENDAR
