BEGIN:VCALENDAR
PRODID:NingEventWidget-v1
VERSION:2.0
METHOD:PUBLISH
BEGIN:VTIMEZONE
TZID:America/New_York
X-LIC-LOCATION:America/New_York
BEGIN:DAYLIGHT
TZOFFSETFROM:-0500
TZOFFSETTO:-0400
TZNAME:EDT
DTSTART:19700308T020000
RRULE:FREQ=YEARLY;BYMONTH=3;BYDAY=2SU
END:DAYLIGHT
BEGIN:STANDARD
TZOFFSETFROM:-0400
TZOFFSETTO:-0500
TZNAME:EST
DTSTART:19701101T020000
RRULE:FREQ=YEARLY;BYMONTH=11;BYDAY=1SU
END:STANDARD
END:VTIMEZONE
BEGIN:VEVENT
UID:1990010:Event:131652
DTSTAMP:20260420T092843Z
SUMMARY:Steps to Securing an Instructional or Administrative Position 
 in Education:  Tips from School District Human Resource Professionals
DESCRIPTION:PDK International\nStony Brook University Chapter\nLeaders
 hip, Research, Service\n\nGeneral Membership Meeting\nPhi Delta Kappa 
 @ SBU\nSponsored by School of Professional Development\n \n“Steps t
 o Securing an Instructional or Administrative Position in Education: 
 \nTips from School District Human Resource Professionals”\n \nTuesd
 ay, February 5, 2013\n6:00 p.m. \nRoom 201\nWang Center\nStony Brook 
 University\n\nALL ARE WELCOME\nEven if you are not yet a member, pleas
 e join us for this informative presentation!\nFree to Members      
   Non-Members $10\n(Membership applications will be accepted at sign-
 in table.)\n\n \nRefreshments will be served. Plan to join us for thi
 s important presentation and discussion!\nRSVP by January 30th : marle
 ne.brennan@stonybrook.edu \n \n\nFor more information visit https://
 schoolleadership20.com/events/steps-to-securing-an-instructional-or-ad
 ministrative-position-in-
DTSTART;TZID=America/New_York:20130205T180000
DTEND;TZID=America/New_York:20130205T193000
CATEGORIES:meeting
LOCATION:Wang Center Stony Brook University - Room 201
WEBSITE:
URL:
CONTACT:
ORGANIZER:PDK International Stony Brook University Chapter
ATTACH;FMTTYPE="image/jpeg":
ATTENDEE;ROLE=REQ-PARTICIPANT;PARTSTAT=ACCEPTED;RSVP=TRUE;CN="Michael 
 Keany":https://schoolleadership20.com/profile/MichaelKeany91
END:VEVENT
END:VCALENDAR
