BEGIN:VCALENDAR
PRODID:NingEventWidget-v1
VERSION:2.0
METHOD:PUBLISH
BEGIN:VTIMEZONE
TZID:America/New_York
X-LIC-LOCATION:America/New_York
BEGIN:DAYLIGHT
TZOFFSETFROM:-0500
TZOFFSETTO:-0400
TZNAME:EDT
DTSTART:19700308T020000
RRULE:FREQ=YEARLY;BYMONTH=3;BYDAY=2SU
END:DAYLIGHT
BEGIN:STANDARD
TZOFFSETFROM:-0400
TZOFFSETTO:-0500
TZNAME:EST
DTSTART:19701101T020000
RRULE:FREQ=YEARLY;BYMONTH=11;BYDAY=1SU
END:STANDARD
END:VTIMEZONE
BEGIN:VEVENT
UID:1990010:Event:123475
DTSTAMP:20260420T105226Z
SUMMARY:Stand Up and Speak Out Against Bullying
DESCRIPTION:\n\nOur Kids In Action (OKIA) is pleased to invite your m
 iddle school students to our 12th Annual Youth Conference,Stand Up an
 d Speak Out Against Bullying.\n \nAt this year's conference we a
 re continuing to address the very important topic of Anti-Bullying. O
 ur guest speaker, Keith Davis, former NFL Giant, will be speaking to 
 the students about the importance of accepting people's differences an
 d will provide them with ideas and tools for how they can be courageo
 us and stand up and speak out against bullying! \n\nRegister - Clic
 k Here\n \n \n\n\n\n\n\n\n\n\n\n\n\n\n\n\n\n\n\n\n\nWhen:\nFriday De
 cember 7, 2012 \n9:00 to 11:00 AM\nRegistration will begin at 8:30 
 AM\n  \nWhere:\nLIU Post - Pratt Recreation Center\n720 Northern 
 Boulevard\nBrookville, NY  11548\n  \nFor further information abo
 ut the event, please visit our website at ourkidsinaction.org\n \n\n
 \n\n\n\n\n\n\n\n\n\nFor more information visit https://schoolleadershi
 p20.com/events/stand-up-and-speak-out-against-bullying
DTSTART;TZID=America/New_York:20121207T090000
DTEND;TZID=America/New_York:20121207T110000
CATEGORIES:conference
LOCATION:LIU Post - Pratt Recreation Center
WEBSITE:http://ourkidsinaction.org
URL:http://ourkidsinaction.org
CONTACT:
ORGANIZER:Our Kids In Action (OKIA)
ATTACH;FMTTYPE="image/jpeg":
ATTENDEE;ROLE=REQ-PARTICIPANT;PARTSTAT=ACCEPTED;RSVP=TRUE;CN="Michael 
 Keany":https://schoolleadership20.com/profile/MichaelKeany91
END:VEVENT
END:VCALENDAR
