BEGIN:VCALENDAR
PRODID:NingEventWidget-v1
VERSION:2.0
METHOD:PUBLISH
BEGIN:VTIMEZONE
TZID:America/New_York
X-LIC-LOCATION:America/New_York
BEGIN:DAYLIGHT
TZOFFSETFROM:-0500
TZOFFSETTO:-0400
TZNAME:EDT
DTSTART:19700308T020000
RRULE:FREQ=YEARLY;BYMONTH=3;BYDAY=2SU
END:DAYLIGHT
BEGIN:STANDARD
TZOFFSETFROM:-0400
TZOFFSETTO:-0500
TZNAME:EST
DTSTART:19701101T020000
RRULE:FREQ=YEARLY;BYMONTH=11;BYDAY=1SU
END:STANDARD
END:VTIMEZONE
BEGIN:VEVENT
UID:1990010:Event:29599
DTSTAMP:20260422T065050Z
SUMMARY:St. John's Doctoral Open House â€“ Oakdale Campus
DESCRIPTION:Doctoral Open House â€“ Oakdale Campus\nÂ \nDate: Â  Â Â Â
  Â Â Â Â Â Â Â Â  Thursday, March 3, 2011\nTime: Â  Â Â Â Â Â Â Â Â Â 
 Â Â  1:00 p.m. â€“ 7:00 p.m.\nLocation: Â Â Â Â Â Â Â  Graduate Academ
 ic Center; Room 6\nSt. Johnâ€™s University / Oakdale\n500 Montauk High
 way\nOakdale, New York 11769\nÂ \nHosted By: Â Â Â Â Â  Jonathan T. Hu
 ghes\nDirector: Center for Educational Leadership and Accountability\n
 Â \n\nFor more information visit https://schoolleadership20.com/events
 /st-johns-doctoral-open-house-1
DTSTART;TZID=America/New_York:20110303T130000
DTEND;TZID=America/New_York:20110303T190000
CATEGORIES:open, house
LOCATION:St. Johnâ€™s University / Oakdale - Graduate Academic Center;
  Room 6
WEBSITE:
URL:
CONTACT:
ORGANIZER:St. John's
ATTACH;FMTTYPE="image/jpeg":
ATTENDEE;ROLE=REQ-PARTICIPANT;PARTSTAT=ACCEPTED;RSVP=TRUE;CN="Michael 
 Keany":https://schoolleadership20.com/profile/MichaelKeany91
END:VEVENT
END:VCALENDAR
