BEGIN:VCALENDAR
PRODID:NingEventWidget-v1
VERSION:2.0
METHOD:PUBLISH
BEGIN:VTIMEZONE
TZID:America/New_York
X-LIC-LOCATION:America/New_York
BEGIN:DAYLIGHT
TZOFFSETFROM:-0500
TZOFFSETTO:-0400
TZNAME:EDT
DTSTART:19700308T020000
RRULE:FREQ=YEARLY;BYMONTH=3;BYDAY=2SU
END:DAYLIGHT
BEGIN:STANDARD
TZOFFSETFROM:-0400
TZOFFSETTO:-0500
TZNAME:EST
DTSTART:19701101T020000
RRULE:FREQ=YEARLY;BYMONTH=11;BYDAY=1SU
END:STANDARD
END:VTIMEZONE
BEGIN:VEVENT
UID:1990010:Event:140986
DTSTAMP:20260419T082244Z
SUMMARY:Spring Conference:  Shifting Instruction to the Core
DESCRIPTION:The Long Island Language Arts Council and the Nassau Read
 ing Council, present the 2013 Spring Conference:  April 5, 2013, Sh
 ifting Instruction to the Core.  Keynote Speakers: Kelly Gallagher &
  Lester Laminack\n\nFor more information visit https://schoolleadershi
 p20.com/events/spring-conference-shifting-instruction-to-the-core
DTSTART;TZID=America/New_York:20130405T073000
DTEND;TZID=America/New_York:20130405T143000
CATEGORIES:conference
LOCATION:Melville Marriott
WEBSITE:http://www.nassaureadingcouncil.org/index_8.htm
URL:http://www.nassaureadingcouncil.org/index_8.htm
CONTACT:(631) 423-1600
ORGANIZER;CN="Mary Dickinson":https://schoolleadership20.com/profile/M
 aryDickinson
ATTACH;FMTTYPE="image/jpeg":
ATTENDEE;ROLE=REQ-PARTICIPANT;PARTSTAT=ACCEPTED;RSVP=TRUE;CN="Mary Dic
 kinson":https://schoolleadership20.com/profile/MaryDickinson
END:VEVENT
END:VCALENDAR
