BEGIN:VCALENDAR
PRODID:NingEventWidget-v1
VERSION:2.0
METHOD:PUBLISH
BEGIN:VTIMEZONE
TZID:America/New_York
X-LIC-LOCATION:America/New_York
BEGIN:DAYLIGHT
TZOFFSETFROM:-0500
TZOFFSETTO:-0400
TZNAME:EDT
DTSTART:19700308T020000
RRULE:FREQ=YEARLY;BYMONTH=3;BYDAY=2SU
END:DAYLIGHT
BEGIN:STANDARD
TZOFFSETFROM:-0400
TZOFFSETTO:-0500
TZNAME:EST
DTSTART:19701101T020000
RRULE:FREQ=YEARLY;BYMONTH=11;BYDAY=1SU
END:STANDARD
END:VTIMEZONE
BEGIN:VEVENT
UID:1990010:Event:146098
DTSTAMP:20260420T054908Z
SUMMARY:Social Emotional Learning & The Dignity Act “Year End Summar
 y and Discussion” - May 6, 2013
DESCRIPTION:Social Emotional Learning &\nThe Dignity Act\n“Year End 
 Summary and Discussion”\n\nMay 6, 2013\n\n8:30 AM – 11:00 AM\n\n 
    Robert E. Lupinskie Center\n     Rooms 1,2,3\nOne Merrick Avenu
 e\nWestbury, NY 11590\n\n\nThe LI SEL Forum, in collaboration with Nas
 sau BOCES Curriculum, Instruction and Technology invites you to join u
 s for a continuing opportunity to share information, strategies and co
 ncerns about the implementation of the Dignity Act regulations during 
 the 2012–13 school year.  This forum is provided for all Dignity Ac
 t Coordinators (DACs) and interested administrators as well as student
  support staff who have assisted their schools in the implementation 
 process.  Topics will include:\n\n\nA discussion of successful staff 
 training that met the State requirements and review plans for next yea
 r’s work.\n\n\n\nCreating a pro-active performance culture in which 
 school adults model positive, supportive behaviors\n\n\n\nReviewing di
 rect instruction options for teaching students about \n\ncivility, ch
 aracter education and citizenship.\n\n\nCreating supportive school cli
 mates that will help reduce acts of                       
                         \n\n                   
          Bullying.\n\n\nDiscuss future topics of interest such as
  working with the difficult\n\n                   student, m
 odel SEL programs, service learning, etc.\n\n\nThere is no charge fo
 r this session. Please bring your own beverages and snacks. \n\nRegi
 ster on: www.Mylearningplan.com  to reserve a place.\n\n\nIf you wou
 ld like to make suggestions for topics to be discussed, or ask questio
 ns about the forum, or if you need help registering please contact, Dr
 . Ron Smith at docron@optonline.net.   We welcome your input.\n\nFo
 r more information visit https://schoolleadership20.com/events/social-
 emotional-learning-the-dignity-act-year-end-summary-and-di
DTSTART;TZID=America/New_York:20130506T083000
DTEND;TZID=America/New_York:20130506T110000
CATEGORIES:discussion, group
LOCATION:Robert E. Lupinskie Center      Rooms 1,2,3 One Merrick Avenu
 e Westbury, NY 11590
WEBSITE:
URL:
CONTACT:docron@optonline.net
ORGANIZER:LI SEL Forum, in collaboration with Nassau BOCES Curriculum,
  Instruction and Technology
ATTACH;FMTTYPE="image/jpeg":
ATTENDEE;ROLE=REQ-PARTICIPANT;PARTSTAT=ACCEPTED;RSVP=TRUE;CN="Michael 
 Keany":https://schoolleadership20.com/profile/MichaelKeany91
END:VEVENT
END:VCALENDAR
