BEGIN:VCALENDAR
PRODID:NingEventWidget-v1
VERSION:2.0
METHOD:PUBLISH
BEGIN:VTIMEZONE
TZID:America/New_York
X-LIC-LOCATION:America/New_York
BEGIN:DAYLIGHT
TZOFFSETFROM:-0500
TZOFFSETTO:-0400
TZNAME:EDT
DTSTART:19700308T020000
RRULE:FREQ=YEARLY;BYMONTH=3;BYDAY=2SU
END:DAYLIGHT
BEGIN:STANDARD
TZOFFSETFROM:-0400
TZOFFSETTO:-0500
TZNAME:EST
DTSTART:19701101T020000
RRULE:FREQ=YEARLY;BYMONTH=11;BYDAY=1SU
END:STANDARD
END:VTIMEZONE
BEGIN:VEVENT
UID:1990010:Event:127432
DTSTAMP:20260420T065635Z
SUMMARY:Social Emotional Learning &  The Dignity Act  “The Discussio
 n Continues…” December 6
DESCRIPTION:Social Emotional Learning &\n The Dignity Act \n“The D
 iscussion Continues…”\n \nDecember 6, 2012\n \n8:30 AM – 11:00
  AM\n \n \nGeorge Farber Administrative Center (LLB)\nNassau BOCES\n
                                    
       71 Clinton Road\nGarden City, NY 11530\n \n \nThe LI SEL
  Forum, in collaboration with Nassau BOCES Curriculum, Instruction and
  Technology invites you to join us for a continuing opportunity to sha
 re information, strategies and concerns about the implementation of th
 e Dignity Act.  This forum is provided for all Dignity Act Coordinato
 rs (DACs) and interested administrators as well as student support st
 aff who will be assisting their schools in the implementation process.
  It is not necessary to have attended the prior Discussion groups. To
 pics will include:\n \n§  What are the Social Emotional Learning C
 ompetencies?\n \n§  Creating a pro-active performance culture in w
 hich school adults model positive, supportive behaviors\n \n§  Rev
 iewing direct instruction options for teaching students about\ncivilit
 y, character education and citizenship.\n \n            
            *   Creating supportive school climates that
  will help reduce acts of                      
                        \n          
                   Bullying.\n \n \n \n \nThere 
 is no charge for this session. Please bring your own beverages and 
 snacks\n \nRegister on: www.Mylearningplan.com  to reserve a place
 .\n \n \nIf you would like to make suggestions for topics to be disc
 ussed, or ask questions about the forum, or if you need help registeri
 ng please contact Dr. Ron Smith at docron@optonline.net.   We welco
 me your input.\n\nFor more information visit https://schoolleadership2
 0.com/events/social-emotional-learning-the-dignity-act-the-discussion-
 continue
DTSTART;TZID=America/New_York:20121206T083000
DTEND;TZID=America/New_York:20121206T110000
CATEGORIES:discussion, group
LOCATION:George Farber Administrative Center (LLB) Nassau BOCES
WEBSITE:
URL:
CONTACT:
ORGANIZER:SEL Forum in collaboration with Nassau BOCES Curriculum, Ins
 truction and Technology
ATTACH;FMTTYPE="image/jpeg":
ATTENDEE;ROLE=REQ-PARTICIPANT;PARTSTAT=ACCEPTED;RSVP=TRUE;CN="Michael 
 Keany":https://schoolleadership20.com/profile/MichaelKeany91
END:VEVENT
END:VCALENDAR
