BEGIN:VCALENDAR
PRODID:NingEventWidget-v1
VERSION:2.0
METHOD:PUBLISH
BEGIN:VTIMEZONE
TZID:America/New_York
X-LIC-LOCATION:America/New_York
BEGIN:DAYLIGHT
TZOFFSETFROM:-0500
TZOFFSETTO:-0400
TZNAME:EDT
DTSTART:19700308T020000
RRULE:FREQ=YEARLY;BYMONTH=3;BYDAY=2SU
END:DAYLIGHT
BEGIN:STANDARD
TZOFFSETFROM:-0400
TZOFFSETTO:-0500
TZNAME:EST
DTSTART:19701101T020000
RRULE:FREQ=YEARLY;BYMONTH=11;BYDAY=1SU
END:STANDARD
END:VTIMEZONE
BEGIN:VEVENT
UID:1990010:Event:131339
DTSTAMP:20260420T074116Z
SUMMARY:Social Emotional Learning &  The Dignity Act   “The Discussi
 on Continues…”
DESCRIPTION:Social Emotional Learning &\n The Dignity Act  \n“The 
 Discussion Continues…”\n\nFebruary 6, 2013\n\n8:30 AM – 11:00 AM
 \n\n\nEastern Suffolk BOCES Sherwood Center\n                
                          15 Andrea Road \nHolbrook, NY 11
 741\n\nThe LI SEL Forum, in collaboration with Eastern Suffolk BOCES, 
 invites you to join us for a continuing opportunity to share informati
 on, strategies and concerns about the implementation of the Dignity Ac
 t.  This forum is provided for all Dignity Act Coordinators (DACs) an
 d interested administrators as well as student support staff who will 
 be assisting their schools in the implementation process. It is not ne
 cessary to have attended the prior Discussion groups. Topics will incl
 ude:\n\n\nWhat are the Social Emotional Learning Competencies?\n\n\n\n
 Creating a pro-active performance culture in which school adults model
  positive, supportive behaviors\n\n\n\nReviewing direct instruction op
 tions for teaching students about \n\ncivility, character education a
 nd citizenship. \n\n\nCreating supportive school climates that will h
 elp reduce acts of                                  
             \n\n                             Bul
 lying.\n\n\nQuestions about school safety.\n\n\nThere is no charge for
  this session. Please bring your own beverages and snacks.\n \nPrese
 nters: Dottie Ahl Joan Fretz Ronald Smith \n\n\nRegister with Carol Br
 own at: cbrown@esboces.org  to reserve a place. Include your name, po
 sition, district, phone # and email address. For Info, call 631-286-69
 89.\n\nIf you would like to make suggestions for topics to be discusse
 d, or ask questions about the forum, or if you need help registering p
 lease contact Dr. Ron Smith at docron@optonline.net.   We welcome yo
 ur input.\n\nFor more information visit https://schoolleadership20.com
 /events/social-emotional-learning-the-dignity-act-the-discussion-conti
 nu2
DTSTART;TZID=America/New_York:20130206T083000
DTEND;TZID=America/New_York:20130206T110000
CATEGORIES:forum
LOCATION:Eastern Suffolk BOCES Sherwood Center
WEBSITE:
URL:
CONTACT:
ORGANIZER:SEL Forum in collaboration with Nassau BOCES Curriculum, Ins
 truction and Technology
ATTACH;FMTTYPE="image/jpeg":
ATTENDEE;ROLE=REQ-PARTICIPANT;PARTSTAT=ACCEPTED;RSVP=TRUE;CN="Michael 
 Keany":https://schoolleadership20.com/profile/MichaelKeany91
END:VEVENT
END:VCALENDAR
