BEGIN:VCALENDAR
PRODID:NingEventWidget-v1
VERSION:2.0
METHOD:PUBLISH
BEGIN:VTIMEZONE
TZID:America/New_York
X-LIC-LOCATION:America/New_York
BEGIN:DAYLIGHT
TZOFFSETFROM:-0500
TZOFFSETTO:-0400
TZNAME:EDT
DTSTART:19700308T020000
RRULE:FREQ=YEARLY;BYMONTH=3;BYDAY=2SU
END:DAYLIGHT
BEGIN:STANDARD
TZOFFSETFROM:-0400
TZOFFSETTO:-0500
TZNAME:EST
DTSTART:19701101T020000
RRULE:FREQ=YEARLY;BYMONTH=11;BYDAY=1SU
END:STANDARD
END:VTIMEZONE
BEGIN:VEVENT
UID:1990010:Event:129832
DTSTAMP:20260419T100902Z
SUMMARY:Secrets to Getting Your Leadership job
DESCRIPTION:\nThe Inside Secrets to Successfully Getting Your Leadersh
 ip Job \n\n \nFind out: -The answers to all of your questions about g
 etting your leadership position -How to stand out from the rest of the
  candidates -How to answer the 10 most asked interview questions -What
  are interviewers really looking for? -What are the do’s and don’t
 s of interviewing? workshop flyer: http://www.wsboces.org/library/pdfs
 /iss2656.pdf  \n\n\n\n\nFor more information visit https://schoollea
 dership20.com/events/secrets-to-getting-your-leadership-job
DTSTART;TZID=America/New_York:20130404T161500
DTEND;TZID=America/New_York:20130404T173000
CATEGORIES:seminar
LOCATION:Western Suffolk BOCES, Wheatley Center
WEBSITE:http://www.wsboces.org/library/pdfs/iss2656.pdf
URL:http://www.wsboces.org/library/pdfs/iss2656.pdf
CONTACT:
ORGANIZER;CN="Dr. Larry Aronstein":https://schoolleadership20.com/prof
 ile/DrLarryAronstein
ATTACH;FMTTYPE="image/jpeg":http://storage.ning.com/topology/rest/1.0/
 file/get/2254127220?profile=original
ATTENDEE;ROLE=REQ-PARTICIPANT;PARTSTAT=ACCEPTED;RSVP=TRUE;CN="Donnethe
 r Jeanell Taylor":https://schoolleadership20.com/profile/DonnetherJean
 ellTaylor
ATTENDEE;ROLE=REQ-PARTICIPANT;PARTSTAT=ACCEPTED;RSVP=TRUE;CN="Wilfredo
  Abrahante":https://schoolleadership20.com/profile/WilfredoAbrahante
ATTENDEE;ROLE=REQ-PARTICIPANT;PARTSTAT=ACCEPTED;RSVP=TRUE;CN="Marjorie
  Grey":https://schoolleadership20.com/profile/MarjorieGrey
ATTENDEE;ROLE=REQ-PARTICIPANT;PARTSTAT=ACCEPTED;RSVP=TRUE;CN="Jessica 
 L. Zimmer":https://schoolleadership20.com/profile/JessicaLZimmer
ATTENDEE;ROLE=REQ-PARTICIPANT;PARTSTAT=ACCEPTED;RSVP=TRUE;CN="James T.
  Williams":https://schoolleadership20.com/profile/JamesTWilliams
ATTENDEE;ROLE=REQ-PARTICIPANT;PARTSTAT=ACCEPTED;RSVP=TRUE;CN="Dr. Larr
 y Aronstein":https://schoolleadership20.com/profile/DrLarryAronstein
ATTENDEE;ROLE=REQ-PARTICIPANT;PARTSTAT=TENTATIVE;RSVP=TRUE;CN="Dr. Elv
 ira Morse":https://schoolleadership20.com/profile/DrElviraMorse
ATTENDEE;ROLE=REQ-PARTICIPANT;PARTSTAT=TENTATIVE;RSVP=TRUE;CN="Kristin
 e Cucinello":https://schoolleadership20.com/profile/KristineCucinello
ATTENDEE;ROLE=REQ-PARTICIPANT;PARTSTAT=TENTATIVE;RSVP=TRUE;CN="Lorrain
 e Sabio":https://schoolleadership20.com/profile/LorraineSabio
END:VEVENT
END:VCALENDAR
