BEGIN:VCALENDAR
PRODID:NingEventWidget-v1
VERSION:2.0
METHOD:PUBLISH
BEGIN:VTIMEZONE
TZID:America/New_York
X-LIC-LOCATION:America/New_York
BEGIN:DAYLIGHT
TZOFFSETFROM:-0500
TZOFFSETTO:-0400
TZNAME:EDT
DTSTART:19700308T020000
RRULE:FREQ=YEARLY;BYMONTH=3;BYDAY=2SU
END:DAYLIGHT
BEGIN:STANDARD
TZOFFSETFROM:-0400
TZOFFSETTO:-0500
TZNAME:EST
DTSTART:19701101T020000
RRULE:FREQ=YEARLY;BYMONTH=11;BYDAY=1SU
END:STANDARD
END:VTIMEZONE
BEGIN:VEVENT
UID:1990010:Event:132629
DTSTAMP:20260420T041211Z
SUMMARY:Pete Suchmann
DESCRIPTION:Company Camp, a New Long Island Tech Incubator\nGiving Awa
 y $10,000 to Tech Savvy Teenagers\n \nPRESS RELEASE\nJanuary 15, 2013
 \n \nCompany Camp, the latest startup incubator to hit the scene, is 
 taking Long Island by\nstorm and targeting the most talented market ar
 ound: creative and passionate teenagers. Company Camp is a 10 week col
 laborative competition that offers enterprising high school and middle
  school students a solid program of entrepreneurial mentor-ship and an
  underpinning in the fundamentals of tech startups. Students who long 
 to be the next Mark Zuckerberg or Steve Jobs have the very real possib
 ility of launching a company of their own with the $10,000 worth of pr
 ize money that goes to the most promising group of young talent with n
 o strings attached.\n \nCompany Camp, founded by Brian Mannix, CEO of
  Babysitting Barter, is accepting\napplications for its first session 
 at www.companycamp.net. The weekly sessions are 2 ½ hours in length, 
 include dinner, and cover topics such as ideation, market research, te
 am building, potential legal pitfalls, raising capital, web design, de
 velopment and deployment, and the essential elevator pitch. Company Ca
 mp brings students together to network and collaborate with like-minde
 d individuals who want to change the world. The final week of Company 
 Camp is Demo Day where all of the teams present their ideas to friends
 , family, Angel Investors and Venture Capital firms.\n \nStudents can
  apply at www.companycamp.net as an individual or as a team, and are\n
 accepted based on the quality of their answers in an application that 
 includes an optional entrance video. Each “camp” session is capped
  at a max of 21 attendees offering all of the participants of Company 
 Camp very good odds of winning the $10,000 prize ($10,000 prize is bas
 ed on a min. of 15 participants).\n \nCompany Camp begins on Tuesday,
  February 26th at 6:30 p.m at the Great Neck Arts Center and kicks off
  with the New York premier of “The Startup Kids” an Icelandic docu
 mentary about young entrepreneur founders from companies like Vimeo, S
 oundcloud, Kiip, InDinero, Dropbox, Foodspotting and many others. This
  screening is open to the general public at no charge.\n \nApply toda
 y to earn the chance to build the company of your dreams while connect
 ing with technology experts appearing in person and Skyping in from ar
 ound the country.\n \nAt Company Camp you will have an experience tha
 t you will never forget.\n \nWe know those who want to change the wor
 ld are young, capable and out there right now. Apply today and prove u
 s right.\n \nCompany Camp, Starting Young Startups\nBrian Mannix\nman
 nixlab@gmail.com\n(516) 582-3816\nP. Suchmann\n516 314 6101\n\nFor mor
 e information visit https://schoolleadership20.com/events/pete-suchman
 n
DTSTART;TZID=America/New_York:20130226T183000
DTEND;TZID=America/New_York:20130226T210000
CATEGORIES:a, new, "start up", course, for, kids, on, long, island
LOCATION:Great Neck Arts Center
WEBSITE:
URL:
CONTACT:
ORGANIZER;CN="Peter Suchmann":https://schoolleadership20.com/profile/P
 eterSuchmann719
ATTACH;FMTTYPE="image/jpeg":
ATTENDEE;ROLE=REQ-PARTICIPANT;PARTSTAT=ACCEPTED;RSVP=TRUE;CN="Peter Su
 chmann":https://schoolleadership20.com/profile/PeterSuchmann719
END:VEVENT
END:VCALENDAR
