BEGIN:VCALENDAR
PRODID:NingEventWidget-v1
VERSION:2.0
METHOD:PUBLISH
BEGIN:VTIMEZONE
TZID:America/New_York
X-LIC-LOCATION:America/New_York
BEGIN:DAYLIGHT
TZOFFSETFROM:-0500
TZOFFSETTO:-0400
TZNAME:EDT
DTSTART:19700308T020000
RRULE:FREQ=YEARLY;BYMONTH=3;BYDAY=2SU
END:DAYLIGHT
BEGIN:STANDARD
TZOFFSETFROM:-0400
TZOFFSETTO:-0500
TZNAME:EST
DTSTART:19701101T020000
RRULE:FREQ=YEARLY;BYMONTH=11;BYDAY=1SU
END:STANDARD
END:VTIMEZONE
BEGIN:VEVENT
UID:1990010:Event:138328
DTSTAMP:20260419T134726Z
SUMMARY:Pearson's PowerSchool Workshop
DESCRIPTION:Pearson has created a 3 day workshop designed to empower t
 echnology and curriculum leaders with the tool that combine PowerSchoo
 l's standard-based grading and reporting features with the common core
  standards to ensure a seamless integration.\n \nhttps://www.mylearni
 ngplan.com/WebReg/ActivityProfile.asp?D=10056&I=1291450&H=1\n \n\nFor
  more information visit https://schoolleadership20.com/events/pearson-
 s-powerschool-workshop
DTSTART;TZID=America/New_York:20130402T083000
DTEND;TZID=America/New_York:20130404T160000
CATEGORIES:powerschool, hands-, on, workshop
LOCATION:Nassau BOCES Robert E. Lupinskie Center
WEBSITE:
URL:
CONTACT:516-608-6666
ORGANIZER;CN="Paula Pisano":https://schoolleadership20.com/profile/Pau
 laPisano443
ATTACH;FMTTYPE="image/jpeg":
ATTENDEE;ROLE=REQ-PARTICIPANT;PARTSTAT=ACCEPTED;RSVP=TRUE;CN="Paula Pi
 sano":https://schoolleadership20.com/profile/PaulaPisano443
END:VEVENT
END:VCALENDAR
