BEGIN:VCALENDAR
PRODID:NingEventWidget-v1
VERSION:2.0
METHOD:PUBLISH
BEGIN:VTIMEZONE
TZID:America/New_York
X-LIC-LOCATION:America/New_York
BEGIN:DAYLIGHT
TZOFFSETFROM:-0500
TZOFFSETTO:-0400
TZNAME:EDT
DTSTART:19700308T020000
RRULE:FREQ=YEARLY;BYMONTH=3;BYDAY=2SU
END:DAYLIGHT
BEGIN:STANDARD
TZOFFSETFROM:-0400
TZOFFSETTO:-0500
TZNAME:EST
DTSTART:19701101T020000
RRULE:FREQ=YEARLY;BYMONTH=11;BYDAY=1SU
END:STANDARD
END:VTIMEZONE
BEGIN:VEVENT
UID:1990010:Event:13008
DTSTAMP:20260420T053843Z
SUMMARY:Pay It Forward Conference
DESCRIPTION:The 2nd Annual Pay It Forward Conference will bring togeth
 er over 50 middle and high schools and 300 people to work toward build
 ing a house on Long Island for Habitat For Humanity. With over 30 non-
 profit organizations participating and six workshops, students, facult
 y and PTA representatives will learn how they can pay it forward to pe
 ople and to the earth by instituting individual change.\n\nFor more in
 formation visit https://schoolleadership20.com/events/pay-it-forward-c
 onference
DTSTART;TZID=America/New_York:20090519T090000
DTEND;TZID=America/New_York:20090519T140000
CATEGORIES:conference
LOCATION:C.W. Post
WEBSITE:http://www.payitforwardconference.ning.com
URL:http://www.payitforwardconference.ning.com
CONTACT:516.582.3816
ORGANIZER;CN="Brian Mannix":https://schoolleadership20.com/profile/Bri
 anMannix
ATTACH;FMTTYPE="image/jpeg":http://storage.ning.com/topology/rest/1.0/
 file/get/2254126340?profile=original
ATTENDEE;ROLE=REQ-PARTICIPANT;PARTSTAT=ACCEPTED;RSVP=TRUE;CN="Brian Ma
 nnix":https://schoolleadership20.com/profile/BrianMannix
END:VEVENT
END:VCALENDAR
