BEGIN:VCALENDAR
PRODID:NingEventWidget-v1
VERSION:2.0
METHOD:PUBLISH
BEGIN:VTIMEZONE
TZID:America/New_York
X-LIC-LOCATION:America/New_York
BEGIN:DAYLIGHT
TZOFFSETFROM:-0500
TZOFFSETTO:-0400
TZNAME:EDT
DTSTART:19700308T020000
RRULE:FREQ=YEARLY;BYMONTH=3;BYDAY=2SU
END:DAYLIGHT
BEGIN:STANDARD
TZOFFSETFROM:-0400
TZOFFSETTO:-0500
TZNAME:EST
DTSTART:19701101T020000
RRULE:FREQ=YEARLY;BYMONTH=11;BYDAY=1SU
END:STANDARD
END:VTIMEZONE
BEGIN:VEVENT
UID:1990010:Event:129675
DTSTAMP:20260420T133453Z
SUMMARY:Parent & Child Connection
DESCRIPTION:Family Fun Event!\nPictures with Santa!\nFree books for ch
 ildren to take home!\nParents will share their traditional food!\nRaff
 le for the parents!\n \n\nFor more information visit https://schoolle
 adership20.com/events/parent-child-connection-1
DTSTART;TZID=America/New_York:20121219T163000
DTEND;TZID=America/New_York:20121219T183000
CATEGORIES:christmas, party
LOCATION:Strong Community Center at the Golden Strip Ctr/ Cafe Cultura
WEBSITE:
URL:
CONTACT:864-283-1721
ORGANIZER;CN="Ana Neves":https://schoolleadership20.com/profile/AnaNev
 es
ATTACH;FMTTYPE="image/jpeg":
ATTENDEE;ROLE=REQ-PARTICIPANT;PARTSTAT=ACCEPTED;RSVP=TRUE;CN="Ana Neve
 s":https://schoolleadership20.com/profile/AnaNeves
END:VEVENT
END:VCALENDAR
