BEGIN:VCALENDAR
PRODID:NingEventWidget-v1
VERSION:2.0
METHOD:PUBLISH
BEGIN:VTIMEZONE
TZID:America/New_York
X-LIC-LOCATION:America/New_York
BEGIN:DAYLIGHT
TZOFFSETFROM:-0500
TZOFFSETTO:-0400
TZNAME:EDT
DTSTART:19700308T020000
RRULE:FREQ=YEARLY;BYMONTH=3;BYDAY=2SU
END:DAYLIGHT
BEGIN:STANDARD
TZOFFSETFROM:-0400
TZOFFSETTO:-0500
TZNAME:EST
DTSTART:19701101T020000
RRULE:FREQ=YEARLY;BYMONTH=11;BYDAY=1SU
END:STANDARD
END:VTIMEZONE
BEGIN:VEVENT
UID:1990010:Event:33137
DTSTAMP:20260420T053804Z
SUMMARY:Operation Splash
DESCRIPTION:Operation SPLASH Kicks off Season on March 12th with the 
 Biggest Clean-up of the Year -- Volunteers NeededOn Saturday, March 12
 , from 9am – noon, Operation SPLASH. (Stop Polluting Littering and S
 ave Harbors) will kick off the 2011 season with OpSPLASH 21, the large
 st clean-up of the year. In its 21st year, SPLASH volunteers will boar
 d boats and be ferried out to remote islands and marshes off the South
  Shore. Bags in hand, volunteers will be on the look out for all sorts
  of trash and debris that they can find. Click  www.operationsplash
 .org for information . \n \nMakeASPLASHFlyer.pdf\n\nFor more inform
 ation visit https://schoolleadership20.com/events/operation-splash
DTSTART;TZID=America/New_York:20110312T090000
DTEND;TZID=America/New_York:20110312T120000
CATEGORIES:clean-up
LOCATION:South Shore
WEBSITE:http://www.operationsplash.org
URL:http://www.operationsplash.org
CONTACT:
ORGANIZER:Operation Splash
ATTACH;FMTTYPE="image/jpeg":
ATTENDEE;ROLE=REQ-PARTICIPANT;PARTSTAT=ACCEPTED;RSVP=TRUE;CN="Michael 
 Keany":https://schoolleadership20.com/profile/MichaelKeany91
END:VEVENT
END:VCALENDAR
