BEGIN:VCALENDAR
PRODID:NingEventWidget-v1
VERSION:2.0
METHOD:PUBLISH
BEGIN:VTIMEZONE
TZID:America/New_York
X-LIC-LOCATION:America/New_York
BEGIN:DAYLIGHT
TZOFFSETFROM:-0500
TZOFFSETTO:-0400
TZNAME:EDT
DTSTART:19700308T020000
RRULE:FREQ=YEARLY;BYMONTH=3;BYDAY=2SU
END:DAYLIGHT
BEGIN:STANDARD
TZOFFSETFROM:-0400
TZOFFSETTO:-0500
TZNAME:EST
DTSTART:19701101T020000
RRULE:FREQ=YEARLY;BYMONTH=11;BYDAY=1SU
END:STANDARD
END:VTIMEZONE
BEGIN:VEVENT
UID:1990010:Event:121096
DTSTAMP:20260420T070758Z
SUMMARY:NYSMSA 32nd Annual Conference
DESCRIPTION:NYSMSA 32nd Annual Conference \nSupporting Middle Level 
 Teachers and Leaders in Their Race to the Top\n\nCheektowaga Middle Sc
 hool and the Millennium Hotel are hosts for the 32nd Annual New York S
 tate Middle School Association Conference October 18-20, 2012. Central
 ly located at the gateway to Buffalo and Niagara Falls, Cheektowaga is
  the central hub within a 20 minute drive with easy access to the Buff
 alo- Niagara Airport, as well as Interstate 90. It will be a breeze to
  shuffle off to Buffalo for some of the most highly effective professi
 onal development for middle level educators in the state.\n\nOur Featu
 re Presenters include:\nJim McIntyre- Banquet Keynote on Keeping it Re
 al at the Middle Level\nDr. Kim Marshall- APPR for administrators and 
 educators. He's the keynote at our Administrators' Luncheon.\nJennifer
  Borgioli- Data Inquiry teams at the Middle Level\nDr. Franklin Campbe
 ll Jones- Developing Cultural Proficiency in your school.\nVivian Deme
 rs Jagoda-THE RTI Master Teacher- Her FINAL NYSMSA Conference\nDr. Har
 vey Silver- Thoughtful Education\nJason Spector and Tom Murphy- Empowe
 ring the Bystander and the DASA Legislation\nDr. Paul Vermette- Social
 - Emotional Learning at the Middle Level\nAngela Stockman -Common Core
  Literacy \nA Double Session PBIS Share Faire and\nOVER 60 practition
 er Workshops throughout the day!\n\nPlease go to www.nysmsa.org for 
 more information. Don’t miss us!\n\nFor more information visit https
 ://schoolleadership20.com/events/nysmsa-32nd-annual-conference
DTSTART;TZID=America/New_York:20121018T000000
DTEND;TZID=America/New_York:20121020T235900
CATEGORIES:annual, conference
LOCATION:Cheektowaga Middle School and the Millennium Hotel
WEBSITE:http://www.nysmsa.org
URL:http://www.nysmsa.org
CONTACT:
ORGANIZER:NYSMSA
ATTACH;FMTTYPE="image/jpeg":
ATTENDEE;ROLE=REQ-PARTICIPANT;PARTSTAT=ACCEPTED;RSVP=TRUE;CN="Michael 
 Keany":https://schoolleadership20.com/profile/MichaelKeany91
END:VEVENT
END:VCALENDAR
