BEGIN:VCALENDAR
PRODID:NingEventWidget-v1
VERSION:2.0
METHOD:PUBLISH
BEGIN:VTIMEZONE
TZID:America/New_York
X-LIC-LOCATION:America/New_York
BEGIN:DAYLIGHT
TZOFFSETFROM:-0500
TZOFFSETTO:-0400
TZNAME:EDT
DTSTART:19700308T020000
RRULE:FREQ=YEARLY;BYMONTH=3;BYDAY=2SU
END:DAYLIGHT
BEGIN:STANDARD
TZOFFSETFROM:-0400
TZOFFSETTO:-0500
TZNAME:EST
DTSTART:19701101T020000
RRULE:FREQ=YEARLY;BYMONTH=11;BYDAY=1SU
END:STANDARD
END:VTIMEZONE
BEGIN:VEVENT
UID:1990010:Event:26851
DTSTAMP:20260420T054427Z
SUMMARY:Nassau County Council of School Superintendents' Aspiring Supe
 rintendents' and Central Administrators' Study Group
DESCRIPTION:Dear Colleagues,The next Nassau County Council of School S
 uperintendents' Aspiring Superintendents' and Central Administrators' 
 Study Group is scheduled for Wednesday, February 9, 2011 from 4:30-6:3
 0 pm in the Patrons' Lounge in the Tilles Center at C. W. Post.  At t
 his session, Study Group participants will hear panel members, Superin
 tendents, Arnie Goldstein, John Lorentz, Lydia Begley, and Warren Meie
 rdiercks with moderator, Herb Brown, in an informative session entitle
 d, Everything You've Wanted to Know about Business but Were Afraid to 
 Ask. Study Group participants will also have the opportunity to networ
 k and interact in problem-solving activities. Please join us for this 
 event. Registration materials are available from your superintendent's
  office. All registration forms are to be submitted by January 15th. I
 f you have any questions, please e-mail me atestelle.kamler@liu.eduUnt
 il then, wishing you all an enjoyable holiday and a Happy New Year.\nB
 est Regards,EstelleEstelle Kamler Ed.D.Associate ProfessorDepartment o
 f Educational Leadership and AdministrationLong Island University, C. 
 W. Post Campus720 Northern Blvd.Brookville, New York 11548-1300\n(516)
  299-2244estelle.kamler@liu.edu\n\nFor more information visit https://
 schoolleadership20.com/events/nassau-county-council-of
DTSTART;TZID=America/New_York:20110209T163000
DTEND;TZID=America/New_York:20110209T183000
CATEGORIES:panel, discussion
LOCATION:Patrons' Lounge in the Tilles Center at C. W. Post
WEBSITE:
URL:
CONTACT:(516) 299-2244
ORGANIZER:Dr. Estelle Kamler
ATTACH;FMTTYPE="image/jpeg":
ATTENDEE;ROLE=REQ-PARTICIPANT;PARTSTAT=ACCEPTED;RSVP=TRUE;CN="Christin
 e V. Cralidis":https://schoolleadership20.com/profile/ChristineVCralid
 is
ATTENDEE;ROLE=REQ-PARTICIPANT;PARTSTAT=ACCEPTED;RSVP=TRUE;CN="William 
 Brennan, Ed.D.":https://schoolleadership20.com/profile/BillBrennan
ATTENDEE;ROLE=REQ-PARTICIPANT;PARTSTAT=ACCEPTED;RSVP=TRUE;CN="Michael 
 Keany":https://schoolleadership20.com/profile/MichaelKeany91
END:VEVENT
END:VCALENDAR
