BEGIN:VCALENDAR
PRODID:NingEventWidget-v1
VERSION:2.0
METHOD:PUBLISH
BEGIN:VTIMEZONE
TZID:America/New_York
X-LIC-LOCATION:America/New_York
BEGIN:DAYLIGHT
TZOFFSETFROM:-0500
TZOFFSETTO:-0400
TZNAME:EDT
DTSTART:19700308T020000
RRULE:FREQ=YEARLY;BYMONTH=3;BYDAY=2SU
END:DAYLIGHT
BEGIN:STANDARD
TZOFFSETFROM:-0400
TZOFFSETTO:-0500
TZNAME:EST
DTSTART:19701101T020000
RRULE:FREQ=YEARLY;BYMONTH=11;BYDAY=1SU
END:STANDARD
END:VTIMEZONE
BEGIN:VEVENT
UID:1990010:Event:138575
DTSTAMP:20260419T172703Z
SUMMARY:Motivated and Responsible Students: How Autonomy-Supportive Sc
 hools Make it Happen - Joan R. Fretz, Presenter
DESCRIPTION:New Inservice Course: Adelphi University\n\nSaturday, Marc
 h 23, 2013\n \n9:00 AM - 4:00 PM\nHagedorn Hall, Room 200\n$99.00\n 
 \n \nMotivated and Responsible Students:\nHow Autonomy-Supportive Sch
 ools Make it Happen\n\n\n\n\n\nJoan R. Fretz, Presenter\n\n\nFor more 
 information visit https://schoolleadership20.com/events/motivated-and-
 responsible-students-how-autonomy-supportive-school
DTSTART;TZID=America/New_York:20130323T090000
DTEND;TZID=America/New_York:20130323T160000
CATEGORIES:inservice
LOCATION:Adelphi University Hagedorn Hall, Room 200
WEBSITE:http://continuing-education.adelphi.edu/newsevent/motivated-an
 d-responsible-students-how-autonomy-supportive-schools-make-it-happen/
URL:http://continuing-education.adelphi.edu/newsevent/motivated-and-re
 sponsible-students-how-autonomy-supportive-schools-make-it-happen/
CONTACT:
ORGANIZER:Adelphi and Joan Fretz
ATTACH;FMTTYPE="image/jpeg":
ATTENDEE;ROLE=REQ-PARTICIPANT;PARTSTAT=ACCEPTED;RSVP=TRUE;CN="Michael 
 Keany":https://schoolleadership20.com/profile/MichaelKeany91
END:VEVENT
END:VCALENDAR
