BEGIN:VCALENDAR
PRODID:NingEventWidget-v1
VERSION:2.0
METHOD:PUBLISH
BEGIN:VTIMEZONE
TZID:America/New_York
X-LIC-LOCATION:America/New_York
BEGIN:DAYLIGHT
TZOFFSETFROM:-0500
TZOFFSETTO:-0400
TZNAME:EDT
DTSTART:19700308T020000
RRULE:FREQ=YEARLY;BYMONTH=3;BYDAY=2SU
END:DAYLIGHT
BEGIN:STANDARD
TZOFFSETFROM:-0400
TZOFFSETTO:-0500
TZNAME:EST
DTSTART:19701101T020000
RRULE:FREQ=YEARLY;BYMONTH=11;BYDAY=1SU
END:STANDARD
END:VTIMEZONE
BEGIN:VEVENT
UID:1990010:Event:199950
DTSTAMP:20260419T083348Z
SUMMARY:LYC/PATCH Summer Institute
DESCRIPTION:A Summer Institute for educators, hosted by the highly reg
 arded PATCH Program of Northport, will take place at Touro Law Center
  (Central Islip), June 30 – July 3. This intensive program has serve
 d Long Island educators for decades in expanding their knowledge in se
 veral content areas. We will offer 5 strands: News Literacy; Technolog
 y Integration for Civic Learning; The Courts, the Constitution and the
  Classroom; Criminal Justice for Educators; and Mock Trial Leadership 
 and Instruction. Only $50 for the entire institute. Graduate credits t
 hrough Stony Brook University are optional. http://www.nysba.org/patc
 h2014\n\nFor more information visit https://schoolleadership20.com/eve
 nts/lyc-patch-summer-institute-1
DTSTART;TZID=America/New_York:20140630T080000
DTEND;TZID=America/New_York:20140703T160000
CATEGORIES:professional, development
LOCATION:Touro Law Center
WEBSITE:http://www.nysba.org/patch2014
URL:http://www.nysba.org/patch2014
CONTACT:5184861748
ORGANIZER;CN="Eileen Gerrish":https://schoolleadership20.com/profile/E
 ileenGerrish
ATTACH;FMTTYPE="image/jpeg":http://storage.ning.com/topology/rest/1.0/
 file/get/2254151148?profile=original
ATTENDEE;ROLE=REQ-PARTICIPANT;PARTSTAT=ACCEPTED;RSVP=TRUE;CN="Eileen G
 errish":https://schoolleadership20.com/profile/EileenGerrish
END:VEVENT
END:VCALENDAR
