BEGIN:VCALENDAR
PRODID:NingEventWidget-v1
VERSION:2.0
METHOD:PUBLISH
BEGIN:VTIMEZONE
TZID:America/New_York
X-LIC-LOCATION:America/New_York
BEGIN:DAYLIGHT
TZOFFSETFROM:-0500
TZOFFSETTO:-0400
TZNAME:EDT
DTSTART:19700308T020000
RRULE:FREQ=YEARLY;BYMONTH=3;BYDAY=2SU
END:DAYLIGHT
BEGIN:STANDARD
TZOFFSETFROM:-0400
TZOFFSETTO:-0500
TZNAME:EST
DTSTART:19701101T020000
RRULE:FREQ=YEARLY;BYMONTH=11;BYDAY=1SU
END:STANDARD
END:VTIMEZONE
BEGIN:VEVENT
UID:1990010:Event:152451
DTSTAMP:20260420T055145Z
SUMMARY:LIASCD Spring Networking Event:
DESCRIPTION:Thursday, May 16, 2013at the Melville Marriott, 1350 Old W
 alt Whitman Road, Melville, NY 117474:30 PM – 6:30 PM\n \nLIASCD co
 rdially invites you to our annual spring networking event.  This year
  attendees will have the opportunity to participate in a collegial dis
 cussion facilitated by Dr. Jonah Rockoff - Working to Make Sense of Gr
 owth Models.\n \nPresently the New York State Board of Regents is con
 sidering additional factors to be included in the proposed value-added
  model.  The Board of Regents will be finalizing the model at their J
 une meeting.\n \nJonah Rockoff is presently an Associate Professor of
  Business at the Columbia Graduate School of Business, a Faculty Resea
 rch Fellow at the National Bureau of Economic Research, and a member o
 f the New York State Board of Regents' Technical Advisory Group.  Dr.
  Rockoff is one of the few people who truly understands growth and val
 ue added models and their implications for educators.\n \nWe look for
 ward to you participation in this informative event, as it represents 
 a  wonderful opportunity for Long Island educators to get an introduc
 tory understanding of  potential changes.\n\n.LIASCDFlyer-SpringNetwo
 rkingSocial2013asofJan31.pdf\n \nRegister today by email to: liascd@
 optonline.net<mailto:liascd@optonline.net>\n \nPlease put \"Spring So
 cial\" in the subject heading. There is NO COST to attend this event\n
 \nFor more information visit https://schoolleadership20.com/events/lia
 scd-spring-networking-event
DTSTART;TZID=America/New_York:20130516T163000
DTEND;TZID=America/New_York:20130516T183000
CATEGORIES:professional, development, and, networking
LOCATION:Melville Marriott, , NY 11747
WEBSITE:
URL:
CONTACT:
ORGANIZER:LIASCD
ATTACH;FMTTYPE="image/jpeg":
ATTENDEE;ROLE=REQ-PARTICIPANT;PARTSTAT=ACCEPTED;RSVP=TRUE;CN="Theodore
  Fulton Ed.D.":https://schoolleadership20.com/profile/TheodoreFulton
END:VEVENT
END:VCALENDAR
