BEGIN:VCALENDAR
PRODID:NingEventWidget-v1
VERSION:2.0
METHOD:PUBLISH
BEGIN:VTIMEZONE
TZID:America/New_York
X-LIC-LOCATION:America/New_York
BEGIN:DAYLIGHT
TZOFFSETFROM:-0500
TZOFFSETTO:-0400
TZNAME:EDT
DTSTART:19700308T020000
RRULE:FREQ=YEARLY;BYMONTH=3;BYDAY=2SU
END:DAYLIGHT
BEGIN:STANDARD
TZOFFSETFROM:-0400
TZOFFSETTO:-0500
TZNAME:EST
DTSTART:19701101T020000
RRULE:FREQ=YEARLY;BYMONTH=11;BYDAY=1SU
END:STANDARD
END:VTIMEZONE
BEGIN:VEVENT
UID:1990010:Event:184685
DTSTAMP:20260420T073213Z
SUMMARY:LIASCD SPRING CONFERENCE: A FULL-DAY WORKSHOP WITH CAROL ANN T
 OMLINSON
DESCRIPTION:Good Afternoon, Please consider attending the LIASCD Spri
 ng Conference scheduled for Friday, April 4, 2014. This full-day works
 hop with Carol Ann Tomlinson will guide educators in understanding the
  principles and practices of differentiating content, process, and pro
 ducts while maintaining fidelity to content standards.\nThe informatio
 nal flyer and registration information can be found at: http://liascd
 .org/documents/LIASCDSpring2014ConferenceFinal.pdf\nWe hope to see you
  there. All the best, Ted Fulton, Ed.D.\n\nFor more information visi
 t https://schoolleadership20.com/events/liascd-spring-conference-a-ful
 l-day-workshop-with-carol-ann
DTSTART;TZID=America/New_York:20140404T083000
DTEND;TZID=America/New_York:20140404T143000
CATEGORIES:professsional, development
LOCATION:Marriott, Melville, New York
WEBSITE:
URL:
CONTACT:
ORGANIZER:LIASCD
ATTACH;FMTTYPE="image/jpeg":
ATTENDEE;ROLE=REQ-PARTICIPANT;PARTSTAT=ACCEPTED;RSVP=TRUE;CN="Michelle
  Gallo":https://schoolleadership20.com/profile/MichelleGallo
ATTENDEE;ROLE=REQ-PARTICIPANT;PARTSTAT=ACCEPTED;RSVP=TRUE;CN="Theodore
  Fulton Ed.D.":https://schoolleadership20.com/profile/TheodoreFulton
END:VEVENT
END:VCALENDAR
