BEGIN:VCALENDAR
PRODID:NingEventWidget-v1
VERSION:2.0
METHOD:PUBLISH
BEGIN:VTIMEZONE
TZID:America/New_York
X-LIC-LOCATION:America/New_York
BEGIN:DAYLIGHT
TZOFFSETFROM:-0500
TZOFFSETTO:-0400
TZNAME:EDT
DTSTART:19700308T020000
RRULE:FREQ=YEARLY;BYMONTH=3;BYDAY=2SU
END:DAYLIGHT
BEGIN:STANDARD
TZOFFSETFROM:-0400
TZOFFSETTO:-0500
TZNAME:EST
DTSTART:19701101T020000
RRULE:FREQ=YEARLY;BYMONTH=11;BYDAY=1SU
END:STANDARD
END:VTIMEZONE
BEGIN:VEVENT
UID:1990010:Event:23540
DTSTAMP:20260420T055144Z
SUMMARY:LIASCD  Fall Conference
DESCRIPTION:This is a professional development opportunity you will no
 t want to miss! Attended by hundreds of educators across Long Island, 
 the Long Island Association for Supervision and Curriculum Development
  (LIASCD) offers a plethora of workshops to meet your needs, no matter
  what position you hold in education. Spaces fill up quickly, so regis
 ter now for this exciting event!\n\nLIASCD\nLONG ISLAND ASSOCIATION FO
 R SUPERVISION\nAND CURRICULUM DEVELOPMENT\n\nFriday, October 15, 2010\
 n7:45 AM – 3:30 PM\n\nThis exciting and informative day is designed 
 to meet the needs of District, School and Classroom Leaders as we grow
  in our\nunderstanding of NCLB, State Standards, and the implications 
 for leadership, instruction, curriculum and assessment. Join hundreds 
 of your colleagues from the region for updates from NYSED and to share
  Best Practices in order to continue to prepare our students for the f
 uture.\n\nMorning Keynote:\nDr. David M. Steiner – NYS Commissioner 
 of Education\n\nAfternoon Keynotes:\nDr. Ken Wagner - NYSED Data Direc
 tor for the Office of Information and Reporting Services\nTeleconferen
 ce with Dave Abrams NYSED Assistant Commissioner Office of Standards, 
 Assessment and Reporting\n\nSee Attached Registration Form for Tentati
 ve Schedule of Workshop Offerings\n* * * * * * * * * * * * * * * * * *
  * * * * * * * * * * * * * * * * * * * * * * * * * * * * * * * * * * *
  * * * * * * * * * * * * * * * * * * * * * * * * * * * * * * *\nRegist
 ration Fee $125\n\nSend your registration form and Check/PO Payable to
  “LIASCD”\nBy October 1, 2010 to:\nLIASCD\nPO Box 198\nCarle Place
 , NY 11514-0198\n\nRegistration Fee Includes a Continental Breakfast a
 nd Lunch\n\nQuestions: E-mail liascd@optonline.net or visit our websit
 e: www.liascd.org\nREQUESTS FOR REFUNDS WILL ONLY BE HONORED IF RECEIV
 ED BY 10/8/10.\n\nFor more information visit https://schoolleadership2
 0.com/events/liascd-fall-conference
DTSTART;TZID=America/New_York:20101015T074500
DTEND;TZID=America/New_York:20101015T153000
CATEGORIES:professional
LOCATION:Melville Marriott
WEBSITE:http://www.liascd.org/documents/flyer2010.pdf
URL:http://www.liascd.org/documents/flyer2010.pdf
CONTACT:
ORGANIZER:LIASCD
ATTACH;FMTTYPE="image/jpeg":
ATTENDEE;ROLE=REQ-PARTICIPANT;PARTSTAT=ACCEPTED;RSVP=TRUE;CN="Michael 
 Keany":https://schoolleadership20.com/profile/MichaelKeany91
END:VEVENT
END:VCALENDAR
