BEGIN:VCALENDAR
PRODID:NingEventWidget-v1
VERSION:2.0
METHOD:PUBLISH
BEGIN:VTIMEZONE
TZID:America/New_York
X-LIC-LOCATION:America/New_York
BEGIN:DAYLIGHT
TZOFFSETFROM:-0500
TZOFFSETTO:-0400
TZNAME:EDT
DTSTART:19700308T020000
RRULE:FREQ=YEARLY;BYMONTH=3;BYDAY=2SU
END:DAYLIGHT
BEGIN:STANDARD
TZOFFSETFROM:-0400
TZOFFSETTO:-0500
TZNAME:EST
DTSTART:19701101T020000
RRULE:FREQ=YEARLY;BYMONTH=11;BYDAY=1SU
END:STANDARD
END:VTIMEZONE
BEGIN:VEVENT
UID:1990010:Event:115773
DTSTAMP:20260420T053834Z
SUMMARY:LIASCD Fall Conference
DESCRIPTION:LIASCD is proud to announce that it's fall 2012 conference
  will be held at the Melville Marriott on Friday, October 5 from 8:30 
 am through 3:30 pm. Keynote speakers will include:-Dr. Thomas Rogers, 
 District Superintendent, Nassau BOCES-Mr. Ken Slentz, Deputy Commissio
 ner, NYSED Office of P-12 Education-Dr. Kristen Huff and Ms. Kate Gers
 on,Senior Fellows Regents Research Fund-Dr. Ken Wagner, Assistant Comm
 issioner for Curriculum and Assessment-Jeff Baker, Data Director-Mr. I
 ra Schwartz, Assistant Commissioner...and many more...Visit our web si
 te for more information on LIASCD and the fall conference.www.LIASCD.o
 rg\n\nFor more information visit https://schoolleadership20.com/events
 /liascd-fall-conference-2
DTSTART;TZID=America/New_York:20121005T083000
DTEND;TZID=America/New_York:20121005T153000
CATEGORIES:conference
LOCATION:Melville Marriott, MELVILLE NY
WEBSITE:http://www.LIASCD.org
URL:http://www.LIASCD.org
CONTACT:
ORGANIZER:LI ASCD
ATTACH;FMTTYPE="image/jpeg":
ATTENDEE;ROLE=REQ-PARTICIPANT;PARTSTAT=ACCEPTED;RSVP=TRUE;CN="Michael 
 Keany":https://schoolleadership20.com/profile/MichaelKeany91
END:VEVENT
END:VCALENDAR
