BEGIN:VCALENDAR
PRODID:NingEventWidget-v1
VERSION:2.0
METHOD:PUBLISH
BEGIN:VTIMEZONE
TZID:America/New_York
X-LIC-LOCATION:America/New_York
BEGIN:DAYLIGHT
TZOFFSETFROM:-0500
TZOFFSETTO:-0400
TZNAME:EDT
DTSTART:19700308T020000
RRULE:FREQ=YEARLY;BYMONTH=3;BYDAY=2SU
END:DAYLIGHT
BEGIN:STANDARD
TZOFFSETFROM:-0400
TZOFFSETTO:-0500
TZNAME:EST
DTSTART:19701101T020000
RRULE:FREQ=YEARLY;BYMONTH=11;BYDAY=1SU
END:STANDARD
END:VTIMEZONE
BEGIN:VEVENT
UID:1990010:Event:135250
DTSTAMP:20260420T055334Z
SUMMARY:LIAPTA ( Long Island Attendance Professionals and Teachers Ass
 ociation) HOMELESS CONFERENCE
DESCRIPTION:Homeless Liaison Collaboration\n\nAre Districts Really Ide
 ntifying students that are homeless? What has been Sandy's Impact!!\n\
 nJoin us on 2/13/13 at 11:30 to 2pm for a get together of homeless lia
 isons, school administrators, and school personnel to discuss how home
 less families have been helped since Super storm Sandy. McKinney-Vento
  rights will be thoroughly discussed at this workshop. There will be a
  nice lunch for $8 dollars. The conference is FREE\n\nFor more informa
 tion visit https://schoolleadership20.com/events/liapta-long-island-at
 tendance-professionals-and-teachers
DTSTART;TZID=America/New_York:20130213T113000
DTEND;TZID=America/New_York:20130213T140000
CATEGORIES:free, event, for, school, officials, needing, a, better, un
 derstanding, of, homelessness, rights, children
LOCATION:52 Third Ave. Brentwood NY at the Anthony Felicio Administrat
 ion Build.
WEBSITE:http://bufsd.org
URL:http://bufsd.org
CONTACT:631-434-2301
ORGANIZER;CN="Cristobal Benitez":https://schoolleadership20.com/profil
 e/CristobalBenitez
ATTACH;FMTTYPE="image/jpeg":
ATTENDEE;ROLE=REQ-PARTICIPANT;PARTSTAT=ACCEPTED;RSVP=TRUE;CN="Cristoba
 l Benitez":https://schoolleadership20.com/profile/CristobalBenitez
END:VEVENT
END:VCALENDAR
