BEGIN:VCALENDAR
PRODID:NingEventWidget-v1
VERSION:2.0
METHOD:PUBLISH
BEGIN:VTIMEZONE
TZID:America/New_York
X-LIC-LOCATION:America/New_York
BEGIN:DAYLIGHT
TZOFFSETFROM:-0500
TZOFFSETTO:-0400
TZNAME:EDT
DTSTART:19700308T020000
RRULE:FREQ=YEARLY;BYMONTH=3;BYDAY=2SU
END:DAYLIGHT
BEGIN:STANDARD
TZOFFSETFROM:-0400
TZOFFSETTO:-0500
TZNAME:EST
DTSTART:19701101T020000
RRULE:FREQ=YEARLY;BYMONTH=11;BYDAY=1SU
END:STANDARD
END:VTIMEZONE
BEGIN:VEVENT
UID:1990010:Event:211414
DTSTAMP:20260419T121957Z
SUMMARY:LI Educators:  DASA Training at Longwood High School
DESCRIPTION:DASA Training at Longwood High School Saturday, September
  6, 2014 8:30 am – 2:30 pm. Longwood HS - Library 100 Longwood Rd
 . Middle Island, NY 11953 To register, go to owlcenter.org, and pri
 nt out this form and send to the OWL Teacher Center with your $35 chec
 k payable to the Lindenhurst PS / OWL in order to reserve your space i
 n the class.On the day of the training, please bring a $50 check or MO
  payable to “Matters of the Mind & Heart” for the instructor’s p
 ortion of the fee. The total cost for the course is $85 ( $35 registra
 tion, $50 session fee).\n\nFor more information visit https://schoolle
 adership20.com/events/li-educators-dasa-training-at-longwood-high-scho
 ol
DTSTART;TZID=America/New_York:20140906T083000
DTEND;TZID=America/New_York:20140906T143000
CATEGORIES:training
LOCATION:Longwood High School Library
WEBSITE:http://owlcenter.org
URL:http://owlcenter.org
CONTACT:
ORGANIZER:OWL Teacher Center
ATTACH;FMTTYPE="image/jpeg":
ATTENDEE;ROLE=REQ-PARTICIPANT;PARTSTAT=ACCEPTED;RSVP=TRUE;CN="Michael 
 Keany":https://schoolleadership20.com/profile/MichaelKeany91
END:VEVENT
END:VCALENDAR
