BEGIN:VCALENDAR
PRODID:NingEventWidget-v1
VERSION:2.0
METHOD:PUBLISH
BEGIN:VTIMEZONE
TZID:America/New_York
X-LIC-LOCATION:America/New_York
BEGIN:DAYLIGHT
TZOFFSETFROM:-0500
TZOFFSETTO:-0400
TZNAME:EDT
DTSTART:19700308T020000
RRULE:FREQ=YEARLY;BYMONTH=3;BYDAY=2SU
END:DAYLIGHT
BEGIN:STANDARD
TZOFFSETFROM:-0400
TZOFFSETTO:-0500
TZNAME:EST
DTSTART:19701101T020000
RRULE:FREQ=YEARLY;BYMONTH=11;BYDAY=1SU
END:STANDARD
END:VTIMEZONE
BEGIN:VEVENT
UID:1990010:Event:79130
DTSTAMP:20260422T115710Z
SUMMARY:REGISTRATION IS STILL OPEN!!! A FEW SEATS ARE LEFT!  Katie Woo
 d Ray - How Reading Develops the Craft of Writing.
DESCRIPTION:The Dowling College Literacy Education Department proudly 
 presents:\n \n How Reading Develops the Craft of Writing, K-8  A Day
  with Katie Wood Ray!\n \n DATE: Thursday, March 1st, 2012 TIME: 8:
 00 A.M. – 3:00 P.M.\n \nRegistration/Check-in/Continental Breakfast
  8:00-8:30 A.M.\n \nLOCATION: Dowling College, Oakdale, NY Rudolph C
 ampus, Oakdale, NY\n REGISTRATION IS LIMITED TO 125 PEOPLE! Teachers: 
 $125 Dowling students: $100\n \n*Register 3 or more participants from
  the same district at the same time – get a $10 discount for each pe
 rson. Applies to early registration only. **Registration Deadline: Feb
 ruary 15th, 2012**\n \nNew Opportunity! In service Credits offered Up
 on request earn 1 CEU for $90 in addition to the conference fee.\n \n
 Katie wood Ray Link - https://www.dowling.edu/dowlinginstitute/rsvp 
   \n Linda S. Bausch, Ed.D.\nChairperson, Literacy Education\nDowling
  College\nOakdale, NY 11769\n631.244.1127\n \n \n \n \n \n \n \
 n \n \n \n \n \n \n \n \n \n \n \n \n \n \n \n \n \n\
 nFor more information visit https://schoolleadership20.com/events/kati
 e-wood-ray-how-reading-develops-the-craft-of-writing
DTSTART;TZID=America/New_York:20120301T080000
DTEND;TZID=America/New_York:20120301T153000
CATEGORIES:conference
LOCATION:Dowling College, Rudolph Campus, Oakdale, NY
WEBSITE:http://www.dowling.edu
URL:http://www.dowling.edu
CONTACT:631-244-1127
ORGANIZER;CN="Linda Bausch":https://schoolleadership20.com/profile/Lin
 daBausch
ATTACH;FMTTYPE="image/jpeg":
ATTENDEE;ROLE=REQ-PARTICIPANT;PARTSTAT=ACCEPTED;RSVP=TRUE;CN="Linda Ba
 usch":https://schoolleadership20.com/profile/LindaBausch
END:VEVENT
END:VCALENDAR
