BEGIN:VCALENDAR
PRODID:NingEventWidget-v1
VERSION:2.0
METHOD:PUBLISH
BEGIN:VTIMEZONE
TZID:America/New_York
X-LIC-LOCATION:America/New_York
BEGIN:DAYLIGHT
TZOFFSETFROM:-0500
TZOFFSETTO:-0400
TZNAME:EDT
DTSTART:19700308T020000
RRULE:FREQ=YEARLY;BYMONTH=3;BYDAY=2SU
END:DAYLIGHT
BEGIN:STANDARD
TZOFFSETFROM:-0400
TZOFFSETTO:-0500
TZNAME:EST
DTSTART:19701101T020000
RRULE:FREQ=YEARLY;BYMONTH=11;BYDAY=1SU
END:STANDARD
END:VTIMEZONE
BEGIN:VEVENT
UID:1990010:Event:125438
DTSTAMP:20260420T085625Z
SUMMARY:Insider's Secrets to Successfully Getting Your Leadership Job
DESCRIPTION:Learn the do's and don'ts of how to get that leadership jo
 b. Dr. Larry Aronstein, recently retired superintendent, has hired hun
 dreds of supervisors and successfully coached scores of aspiring leade
 rs. Learn time tested strategies that work.\n\nhttp://www.wsboces.org/
 library/pdfs/iss2596.pdf\n\nFor more information visit https://schooll
 eadership20.com/events/insider-s-secrets-to-successfully-getting-your-
 leadership-job
DTSTART;TZID=America/New_York:20121206T161500
DTEND;TZID=America/New_York:20121206T174500
CATEGORIES:seminar
LOCATION:Western Suffolk BOCES-- Wheatley Center
WEBSITE:http://www.wsboces.org/library/pdfs/iss2596.pdf
URL:http://www.wsboces.org/library/pdfs/iss2596.pdf
CONTACT:516-773-6119
ORGANIZER;CN="Dr. Larry Aronstein":https://schoolleadership20.com/prof
 ile/DrLarryAronstein
ATTACH;FMTTYPE="image/jpeg":http://storage.ning.com/topology/rest/1.0/
 file/get/2254127220?profile=original
ATTENDEE;ROLE=REQ-PARTICIPANT;PARTSTAT=ACCEPTED;RSVP=TRUE;CN="James T.
  Williams":https://schoolleadership20.com/profile/JamesTWilliams
ATTENDEE;ROLE=REQ-PARTICIPANT;PARTSTAT=ACCEPTED;RSVP=TRUE;CN="John Lon
 ardo":https://schoolleadership20.com/profile/JohnLonardo
ATTENDEE;ROLE=REQ-PARTICIPANT;PARTSTAT=ACCEPTED;RSVP=TRUE;CN="Dr. Larr
 y Aronstein":https://schoolleadership20.com/profile/DrLarryAronstein
ATTENDEE;ROLE=REQ-PARTICIPANT;PARTSTAT=TENTATIVE;RSVP=TRUE;CN="Wilma A
 . Fisher":https://schoolleadership20.com/profile/WilmaAFisher
END:VEVENT
END:VCALENDAR
