BEGIN:VCALENDAR
PRODID:NingEventWidget-v1
VERSION:2.0
METHOD:PUBLISH
BEGIN:VTIMEZONE
TZID:America/New_York
X-LIC-LOCATION:America/New_York
BEGIN:DAYLIGHT
TZOFFSETFROM:-0500
TZOFFSETTO:-0400
TZNAME:EDT
DTSTART:19700308T020000
RRULE:FREQ=YEARLY;BYMONTH=3;BYDAY=2SU
END:DAYLIGHT
BEGIN:STANDARD
TZOFFSETFROM:-0400
TZOFFSETTO:-0500
TZNAME:EST
DTSTART:19701101T020000
RRULE:FREQ=YEARLY;BYMONTH=11;BYDAY=1SU
END:STANDARD
END:VTIMEZONE
BEGIN:VEVENT
UID:1990010:Event:29306
DTSTAMP:20260420T163938Z
SUMMARY:Inside Secrets to Getting Your New Leadership Position
DESCRIPTION:Secret%20March%203rd.pdfDon't missĀ Dr. Larry Aronstein'sĀ
  90 minute workshop for aspiring and new school leaders on Thursday, J
 anuary 27th at 4 PM at the Four Points by Sheraton in Plainview, right
  off the LIE. Only $45. Space is limited, so don't hesitate to registe
 r.\nĀ \nFind out:\nĀ \n*How to Stand Out from the Rest of the Candidat
 es\n*How to Answer The 10 Most Asked Interview Questions\n*What the In
 terviewers Are Really Looking For\n*The Do's and Don'ts of How to Hand
 le Yourself*What to Say and Do and What Not to Say and Do\n\nFor more 
 information visit https://schoolleadership20.com/events/inside-secrets
 -to-getting-your
DTSTART;TZID=America/New_York:20110303T160000
DTEND;TZID=America/New_York:20110303T173000
CATEGORIES:workshop
LOCATION:Four Points by Sheraton, Plainview, NY
WEBSITE:
URL:
CONTACT:516-773-6119
ORGANIZER;CN="Dr. Larry Aronstein":https://schoolleadership20.com/prof
 ile/DrLarryAronstein
ATTACH;FMTTYPE="image/jpeg":http://storage.ning.com/topology/rest/1.0/
 file/get/2254127220?profile=original
ATTENDEE;ROLE=REQ-PARTICIPANT;PARTSTAT=ACCEPTED;RSVP=TRUE;CN="Dr. Larr
 y Aronstein":https://schoolleadership20.com/profile/DrLarryAronstein
END:VEVENT
END:VCALENDAR
