BEGIN:VCALENDAR
PRODID:NingEventWidget-v1
VERSION:2.0
METHOD:PUBLISH
BEGIN:VTIMEZONE
TZID:America/New_York
X-LIC-LOCATION:America/New_York
BEGIN:DAYLIGHT
TZOFFSETFROM:-0500
TZOFFSETTO:-0400
TZNAME:EDT
DTSTART:19700308T020000
RRULE:FREQ=YEARLY;BYMONTH=3;BYDAY=2SU
END:DAYLIGHT
BEGIN:STANDARD
TZOFFSETFROM:-0400
TZOFFSETTO:-0500
TZNAME:EST
DTSTART:19701101T020000
RRULE:FREQ=YEARLY;BYMONTH=11;BYDAY=1SU
END:STANDARD
END:VTIMEZONE
BEGIN:VEVENT
UID:1990010:Event:27695
DTSTAMP:20260420T071915Z
SUMMARY:Informative session about the New York State ED-1 document ret
 ention schedule
DESCRIPTION:Please join us for this informative session about the New 
 York State ED-1 document retention schedule.  Learn what types of doc
 uments should be saved and for how long.  The issue of preserving doc
 uments and in what format (i.e. microfilm, digital imaging) will also 
 be discussed. Kindly distribute this invitation to the appropriate ad
 ministrators in your district. \n \nDate: Tuesday, February 8, 2011\
 nTime: 1:00 - 3:00 p.m.\nLocation: Robert E. Lupinskie Center, One Mer
 rick Avenue, Westbury (Location information)\n \nRegister Online\n \
 nDigitizing documents is a very positive \"green\" initiative. It also
  serves as a means of preventing loss of paper documents due to flood,
  fire, age, or simple misfilings. In addition, electronic access to s
 tudent records, Accounts Payable, HR documents, etc. saves districts t
 ime and results in substantial cost savings by improved processes and 
 redirected manpower.\n \nThis session would be particularly helpful f
 or the District's Record Management Officers, Assistant Superintenden
 ts for Business, Directors of Technology, and the District Superintend
 ent.\n \nAbout the Presenter: Lorraine Hill-Campbell is the Regional
  Advisory Officer in the Local Government Advisory Services division o
 f the New York State Archives. http://www.archives.nysed.gov\n \nFor
  event information, please contact Dominic Potenza at dpotenza@mail.n
 asboces.org or 516.832.2745\n\nFor more information visit https://sch
 oolleadership20.com/events/informative-session-about-the
DTSTART;TZID=America/New_York:20110208T130000
DTEND;TZID=America/New_York:20110208T150000
CATEGORIES:info, session
LOCATION:Robert E. Lupinskie Center
WEBSITE:
URL:
CONTACT:516.832.2745
ORGANIZER:NYSED
ATTACH;FMTTYPE="image/jpeg":
ATTENDEE;ROLE=REQ-PARTICIPANT;PARTSTAT=ACCEPTED;RSVP=TRUE;CN="Michael 
 Keany":https://schoolleadership20.com/profile/MichaelKeany91
END:VEVENT
END:VCALENDAR
