BEGIN:VCALENDAR
PRODID:NingEventWidget-v1
VERSION:2.0
METHOD:PUBLISH
BEGIN:VTIMEZONE
TZID:America/New_York
X-LIC-LOCATION:America/New_York
BEGIN:DAYLIGHT
TZOFFSETFROM:-0500
TZOFFSETTO:-0400
TZNAME:EDT
DTSTART:19700308T020000
RRULE:FREQ=YEARLY;BYMONTH=3;BYDAY=2SU
END:DAYLIGHT
BEGIN:STANDARD
TZOFFSETFROM:-0400
TZOFFSETTO:-0500
TZNAME:EST
DTSTART:19701101T020000
RRULE:FREQ=YEARLY;BYMONTH=11;BYDAY=1SU
END:STANDARD
END:VTIMEZONE
BEGIN:VEVENT
UID:1990010:Event:25566
DTSTAMP:20260420T053834Z
SUMMARY:How to Get a Teaching Position in  Social Studies:  Mastering 
 the all-important Job Interview
DESCRIPTION:The Long Island Council for the Social Studies\nPresents\n
 \nHow to Get a Teaching Position in\nSocial Studies:\n\nMastering the 
 all-important Job Interview\n\nWednesday, March 2nd, 2011\n3:30 – 6:
 00\nHuntington Hilton Hotel\n\nThis workshop is designed for student t
 eachers and certified teachers who are seeking a position as a seconda
 ry school teacher of social studies. It will offer the opportunity to 
 engage in practice interviews conducted by social studies chairpersons
  from over fifteen Long Island school districts\n\n\n\n_______________
 ___________________________________________________________\nREGISTRAT
 ION FORM\n\nName _ College/University/School\n\nHome Address _________
 _______________\n\nPhone Number\n\nE mail address ____________________
 _________________________\n(Please print address clearly. An e mail co
 nfirmation of registration will be sent)\n\nDeadline: February 18, 201
 1\nCost: $10.00 LICSS member\n$30.00 non-member (Includes one-year LIC
 SS membership)\n\n\nMake Checks payable to: LICSS\n\nPlease send to:\n
 \nProf. Charles Backfish Contact phone number 631- 632-1093\nSocial St
 udies Education Program e mail: cbackfish@notes.cc.sunysb.edu\nSBS-S-3
 01\nStony Brook University\nStony Brook, New York 11794-4348\n\nFor mo
 re information visit https://schoolleadership20.com/events/how-to-get-
 a-teaching-position
DTSTART;TZID=America/New_York:20110302T153000
DTEND;TZID=America/New_York:20110302T180000
CATEGORIES:seminar
LOCATION:Huntington Hilton Hotel
WEBSITE:http://www.licss.org
URL:http://www.licss.org
CONTACT:631- 632-1093
ORGANIZER:The Long Island Council for the Social Studies
ATTACH;FMTTYPE="image/jpeg":
ATTENDEE;ROLE=REQ-PARTICIPANT;PARTSTAT=ACCEPTED;RSVP=TRUE;CN="Michael 
 Keany":https://schoolleadership20.com/profile/MichaelKeany91
END:VEVENT
END:VCALENDAR
