BEGIN:VCALENDAR
PRODID:NingEventWidget-v1
VERSION:2.0
METHOD:PUBLISH
BEGIN:VTIMEZONE
TZID:America/New_York
X-LIC-LOCATION:America/New_York
BEGIN:DAYLIGHT
TZOFFSETFROM:-0500
TZOFFSETTO:-0400
TZNAME:EDT
DTSTART:19700308T020000
RRULE:FREQ=YEARLY;BYMONTH=3;BYDAY=2SU
END:DAYLIGHT
BEGIN:STANDARD
TZOFFSETFROM:-0400
TZOFFSETTO:-0500
TZNAME:EST
DTSTART:19701101T020000
RRULE:FREQ=YEARLY;BYMONTH=11;BYDAY=1SU
END:STANDARD
END:VTIMEZONE
BEGIN:VEVENT
UID:1990010:Event:214279
DTSTAMP:20260420T054427Z
SUMMARY:Holocaust Memorial and Tolerance Center
DESCRIPTION:\n\nGrand Opening of the Claire Friedlander Education Ins
 titute \n\n\n\n\n\n\nJoin us to celebrate the opening of the newest E
 ducation Institute in Nassau County\nRibbon cutting, tours of museum a
 nd new state of the art classrooms will be ongoing.\n\n\n\n\n\n\n\n\n\
 n\n\n\n \n\n\n\n\n\n\n\n\n\n\n\n\nFor more information visit https://
 schoolleadership20.com/events/holocaust-memorial-and-tolerance-center
DTSTART;TZID=America/New_York:20140921T140000
DTEND;TZID=America/New_York:20140921T160000
CATEGORIES:grand, opening, of, the, clair, friedlander, education, ins
 titute
LOCATION:Holocaust Memorial and Tolerance Center
WEBSITE:http://holocaust-nassau.org/events
URL:http://holocaust-nassau.org/events
CONTACT:516-571-8040
ORGANIZER:Tracy Garrison Feinberg
ATTACH;FMTTYPE="image/jpeg":
ATTENDEE;ROLE=REQ-PARTICIPANT;PARTSTAT=ACCEPTED;RSVP=TRUE;CN="Meryl me
 nashe":https://schoolleadership20.com/profile/Merylmenashe966
END:VEVENT
END:VCALENDAR
