BEGIN:VCALENDAR
PRODID:NingEventWidget-v1
VERSION:2.0
METHOD:PUBLISH
BEGIN:VTIMEZONE
TZID:America/New_York
X-LIC-LOCATION:America/New_York
BEGIN:DAYLIGHT
TZOFFSETFROM:-0500
TZOFFSETTO:-0400
TZNAME:EDT
DTSTART:19700308T020000
RRULE:FREQ=YEARLY;BYMONTH=3;BYDAY=2SU
END:DAYLIGHT
BEGIN:STANDARD
TZOFFSETFROM:-0400
TZOFFSETTO:-0500
TZNAME:EST
DTSTART:19701101T020000
RRULE:FREQ=YEARLY;BYMONTH=11;BYDAY=1SU
END:STANDARD
END:VTIMEZONE
BEGIN:VEVENT
UID:1990010:Event:59589
DTSTAMP:20260420T053109Z
SUMMARY:Getting to Know the Common Core Standards in Grades 3-5 for EL
 A and Mathematics
DESCRIPTION:8/23 AND 8/24 AND 8/25 – “Getting to Know the Common C
 ore Standards in Grades 3-5 for ELA and Mathematics”\n(Must attend a
 ll days)\nFacilitator: Emma Klimek and Jean Lapinski\nAudience: Grades
  3-5 teachers and administrators\nhttp://www2.esboces.org/scd/Propics/
 3-5ELAMATHCommonCore.pdf\n\n\nREGISTRATION MUST BE DONE THROUGH http:/
 /webreg.esboces.org\n\n****TO ALL REGISTRANTS****\n\nAs a My Learning 
 Plan member, please realize though you registered yourself and submitt
 ed your request to your district to attend a workshop, we will NOT see
  your name as registered until you are approved by YOUR Administrators
  through the ES BOCES catalog, not just internally. Confirm your regis
 tration at any time by e-mailing Ann Shirlow at ashirlow@esboces.org\n
 \nAs a NON-MEMBER OF My Learning Plan, please realize though you regis
 tered yourself, you MUST print out your enrollment form, have an admin
 istrator sign their approval and fax or mail it back to the number on 
 the form. PLEASE DO NOT assume because you handed it in to your distri
 ct, we received it. Confirm your registration at any time by e-mailing
  Ann Shirlow at ashirlow@esboces.org.\n\nFor more information visit ht
 tps://schoolleadership20.com/events/getting-to-know-the-common-core-st
 andards-in-grades-3-5-for-ela-a
DTSTART;TZID=America/New_York:20110823T000000
DTEND;TZID=America/New_York:20110825T235900
CATEGORIES:workshop
LOCATION:Eastern Suffolk BOCES
WEBSITE:http://www2.esboces.org/scd/Propics/3-5ELAMATHCommonCore.pdf
URL:http://www2.esboces.org/scd/Propics/3-5ELAMATHCommonCore.pdf
CONTACT:
ORGANIZER:Eastern Suffolk BOCES
ATTACH;FMTTYPE="image/jpeg":
ATTENDEE;ROLE=REQ-PARTICIPANT;PARTSTAT=ACCEPTED;RSVP=TRUE;CN="Michael 
 Keany":https://schoolleadership20.com/profile/MichaelKeany91
END:VEVENT
END:VCALENDAR
