BEGIN:VCALENDAR
PRODID:NingEventWidget-v1
VERSION:2.0
METHOD:PUBLISH
BEGIN:VTIMEZONE
TZID:America/New_York
X-LIC-LOCATION:America/New_York
BEGIN:DAYLIGHT
TZOFFSETFROM:-0500
TZOFFSETTO:-0400
TZNAME:EDT
DTSTART:19700308T020000
RRULE:FREQ=YEARLY;BYMONTH=3;BYDAY=2SU
END:DAYLIGHT
BEGIN:STANDARD
TZOFFSETFROM:-0400
TZOFFSETTO:-0500
TZNAME:EST
DTSTART:19701101T020000
RRULE:FREQ=YEARLY;BYMONTH=11;BYDAY=1SU
END:STANDARD
END:VTIMEZONE
BEGIN:VEVENT
UID:1990010:Event:148466
DTSTAMP:20260422T050735Z
SUMMARY:Get Moving New York
DESCRIPTION:On Saturday May 4th, the Nassau Zone of New York State 
 Association for Health, Physical Education, Recreation, and Dance wil
 l be hosting its first annual \"Get Moving New York\" event at Freepor
 t High School.\n\nOrganized in conjunction with Freeport Public Schoo
 ls, this free event will be packed with fun, family-friendly activitie
 s and the annual \"Freeport Cares Peace Walk and Wellness Fair.\"  Th
 e event will kick off at 8:30am and end around 12:30pm.  For more in
 fo, visit www.nassauzone.org. \n\nPlease pass along the above inform
 ation and attached PDF flyer to coaches, teachers, parents, students, 
 and anyone else interested in joining us on Saturday 5/4 in promoting 
 lifelong health and physical fitness.\n\nGet Moving NY - May 4.pdf\n\n
 \nFor more information visit https://schoolleadership20.com/events/get
 -moving-new-york
DTSTART;TZID=America/New_York:20130504T083000
DTEND;TZID=America/New_York:20130504T123000
CATEGORIES:presentations, physical, activity, wellness, fair, peace, w
 alk
LOCATION:Freeport High School
WEBSITE:http://www.nassauzone.org
URL:http://www.nassauzone.org
CONTACT:
ORGANIZER:NYS AHPERD - Nassau Zone
ATTACH;FMTTYPE="image/jpeg":http://storage.ning.com/topology/rest/1.0/
 file/get/2254140388?profile=original
ATTENDEE;ROLE=REQ-PARTICIPANT;PARTSTAT=ACCEPTED;RSVP=TRUE;CN="Ryan Fis
 k":https://schoolleadership20.com/profile/RyanFisk
END:VEVENT
END:VCALENDAR
