BEGIN:VCALENDAR
PRODID:NingEventWidget-v1
VERSION:2.0
METHOD:PUBLISH
BEGIN:VTIMEZONE
TZID:America/New_York
X-LIC-LOCATION:America/New_York
BEGIN:DAYLIGHT
TZOFFSETFROM:-0500
TZOFFSETTO:-0400
TZNAME:EDT
DTSTART:19700308T020000
RRULE:FREQ=YEARLY;BYMONTH=3;BYDAY=2SU
END:DAYLIGHT
BEGIN:STANDARD
TZOFFSETFROM:-0400
TZOFFSETTO:-0500
TZNAME:EST
DTSTART:19701101T020000
RRULE:FREQ=YEARLY;BYMONTH=11;BYDAY=1SU
END:STANDARD
END:VTIMEZONE
BEGIN:VEVENT
UID:1990010:Event:180254
DTSTAMP:20260419T082632Z
SUMMARY:Gang and Youth Violence Prevention: Moving Forward
DESCRIPTION:Gang and Youth Violence Prevention: Moving Forward\nÂ \nÂ 
 \nTuesday,Â FebruaryÂ 25,Â 2014\nÂ Â Â Â Â Â Â Â Â Â Â Â Â Â Â Â Â Â Â
  Â Â Â Â Â Â Â Â Â \nÂ Â Â Â Â Â Â Â 8:30Â a.m.Â â€“3:00Â p.m.\nÂ Â Â 
 Â Â Â Â Â Â Â Â Â Â Â Â Â Â Â Â Â Â Â Â Â Â Â Â Â Â Â Â Â Â Â Â Â Â Â 
 Â Â Â Â Â Â Â Â Â Â Â Â Â Â Â Â Â Â Â Â Â  HofstraUniversity, StudentÂ
  Center (North Campus)\n\nÂ  Â  Â  Â  Â  Â  Â  Â  Â  Â  Â  Â Click bel
 ow Â  Â  Â  Â  Â  Â  Â  Â  Â  Â  Â  Â  Â  Â  Â Â  Â  Â  Â  Â  Â  Â  Â 
  Â  Â  Â  Â  Â  Â  Â Â \nGangs Conference Brochure\n\nFor more informa
 tion visit https://schoolleadership20.com/events/gang-and-youth-violen
 ce-prevention-moving-forward
DTSTART;TZID=America/New_York:20140225T083000
DTEND;TZID=America/New_York:20140225T150000
CATEGORIES:conference
LOCATION:HofstraUniversity, Student Center (North Campus)
WEBSITE:
URL:
CONTACT:
ORGANIZER:Hofstra University, Nassau County Police
ATTACH;FMTTYPE="image/jpeg":
ATTENDEE;ROLE=REQ-PARTICIPANT;PARTSTAT=ACCEPTED;RSVP=TRUE;CN="Michael 
 Keany":https://schoolleadership20.com/profile/MichaelKeany91
END:VEVENT
END:VCALENDAR
