BEGIN:VCALENDAR
PRODID:NingEventWidget-v1
VERSION:2.0
METHOD:PUBLISH
BEGIN:VTIMEZONE
TZID:America/New_York
X-LIC-LOCATION:America/New_York
BEGIN:DAYLIGHT
TZOFFSETFROM:-0500
TZOFFSETTO:-0400
TZNAME:EDT
DTSTART:19700308T020000
RRULE:FREQ=YEARLY;BYMONTH=3;BYDAY=2SU
END:DAYLIGHT
BEGIN:STANDARD
TZOFFSETFROM:-0400
TZOFFSETTO:-0500
TZNAME:EST
DTSTART:19701101T020000
RRULE:FREQ=YEARLY;BYMONTH=11;BYDAY=1SU
END:STANDARD
END:VTIMEZONE
BEGIN:VEVENT
UID:1990010:Event:136550
DTSTAMP:20260419T190341Z
SUMMARY:Free Workshop: Response to Inappropriate Behavior: Strategies 
 to Break the Pattern
DESCRIPTION:Response to Inappropriate Behavior: Strategies to Break th
 e Pattern\nA FREE Workshop about what students tell us through their b
 ehavior and how we can best intervene. \nMarch 21, 2013\n8:30 AM – 
 11:00 AM\nEastern Suffolk BOCES Sherwood Center15 Andrea Road Holbroo
 k, NY 11741\nThe LI Social Emotional Literacy Forum, in collaboration 
 with Eastern Suffolk BOCES, invites you to join us for a continuing di
 scussion related to the behaviors outlined in the Dignity Act. This se
 ssion provides information on behavior management strategies that addr
 ess inappropriate student behavior. \nThis information is helpful for
  all Dignity Act Coordinators (DACs), interested administrators, and s
 tudent support staff who assist their schools in implementation of th
 e Dignity Act. It is not necessary to have attended the prior discussi
 on groups.\nTopics include:\n\nUnderstanding the science of behavior\n
 Response Strategies and Error Correction\nUse of a hierarchy of respon
 ses to inappropriate behavior\nClimate control strategies\n\nPresenter
 : Michelle Levy, Behavior Specialist, RSE TASC\n**********************
 *************************************************\nThere is no charge
  for this session. Please bring your own snacks\nRegister with Carol 
 Brown at: cbrown@esboces.org to reserve a place. Include your name, 
 position, district, phone # and email address. Call 631-286-6989 fo
 r registration questions only.\nFor information on the session topic, 
 contact Michelle Levy: mlevy@esboces.org. 631-218-4197\n\nFor more i
 nformation visit https://schoolleadership20.com/events/free-workshop-r
 esponse-to-inappropriate-behavior-strategies-to-br
DTSTART;TZID=America/New_York:20130321T083000
DTEND;TZID=America/New_York:20130321T110000
CATEGORIES:"meeting/presentation"
LOCATION:Eastern Suffolk BOCES Sherwood Center
WEBSITE:
URL:
CONTACT:631-218-4197
ORGANIZER:LI Social Emotional Literacy Forum, in collaboration with Ea
 stern Suffolk BOCES
ATTACH;FMTTYPE="image/jpeg":
ATTENDEE;ROLE=REQ-PARTICIPANT;PARTSTAT=ACCEPTED;RSVP=TRUE;CN="Michael 
 Keany":https://schoolleadership20.com/profile/MichaelKeany91
END:VEVENT
END:VCALENDAR
