BEGIN:VCALENDAR
PRODID:NingEventWidget-v1
VERSION:2.0
METHOD:PUBLISH
BEGIN:VTIMEZONE
TZID:America/New_York
X-LIC-LOCATION:America/New_York
BEGIN:DAYLIGHT
TZOFFSETFROM:-0500
TZOFFSETTO:-0400
TZNAME:EDT
DTSTART:19700308T020000
RRULE:FREQ=YEARLY;BYMONTH=3;BYDAY=2SU
END:DAYLIGHT
BEGIN:STANDARD
TZOFFSETFROM:-0400
TZOFFSETTO:-0500
TZNAME:EST
DTSTART:19701101T020000
RRULE:FREQ=YEARLY;BYMONTH=11;BYDAY=1SU
END:STANDARD
END:VTIMEZONE
BEGIN:VEVENT
UID:1990010:Event:137393
DTSTAMP:20260419T153635Z
SUMMARY:Free Virtual Worldwide School Leadership Summit, Thursday, Mar
 ch 28th, 2013
DESCRIPTION:The Technology Information Center for Administrative Leade
 rship (TICAL) and Steve Hargadon are pleased to announce the inaugura
 l virtual and worldwide School Leadership Summit, Thursday, March 28th
 , 2013. This free conference will be held online and will be a unique 
 chance to participate in a collaborative global conversation on school
  leadership with presentations by your peers. It is being co-chaired b
 y Steve Hargadon, whose virtual educational conferences had over 100,0
 00 attendee logins last year.\nDownload a flyer to share with your col
 leagues.\n\n\nTo Attend:\n \nThe Summit is held online using Blackboa
 rd Collaborate and open to anyone to attend.  The conference schedule
  is kept current at  http://admin20.org/page/schedule and during the
  conference will be viewable by specific world time zones. During the 
 conference each session will also have a specific link to the Blackboa
 rd Collaborate room for the session, as well as instructions for using
  Collaborate (which works on all major computer platforms).\n\n\n\n\n\
 n\n\n\n\n \n\nFor more information visit https://schoolleadership20.c
 om/events/free-virtual-worldwide-school-leadership-summit-thursday-mar
 ch-28
DTSTART;TZID=America/New_York:20130328T000000
DTEND;TZID=America/New_York:20130328T235900
CATEGORIES:virtual, worldwide, summit, conference
LOCATION:Virtual - Online
WEBSITE:http://admin20.org/page/summit
URL:http://admin20.org/page/summit
CONTACT:
ORGANIZER:The Technology Information Center for Administrative Leaders
 hip (TICAL) and Steve Hargadon
ATTACH;FMTTYPE="image/jpeg":
ATTENDEE;ROLE=REQ-PARTICIPANT;PARTSTAT=ACCEPTED;RSVP=TRUE;CN="Michael 
 Keany":https://schoolleadership20.com/profile/MichaelKeany91
END:VEVENT
END:VCALENDAR
