BEGIN:VCALENDAR
PRODID:NingEventWidget-v1
VERSION:2.0
METHOD:PUBLISH
BEGIN:VTIMEZONE
TZID:America/New_York
X-LIC-LOCATION:America/New_York
BEGIN:DAYLIGHT
TZOFFSETFROM:-0500
TZOFFSETTO:-0400
TZNAME:EDT
DTSTART:19700308T020000
RRULE:FREQ=YEARLY;BYMONTH=3;BYDAY=2SU
END:DAYLIGHT
BEGIN:STANDARD
TZOFFSETFROM:-0400
TZOFFSETTO:-0500
TZNAME:EST
DTSTART:19701101T020000
RRULE:FREQ=YEARLY;BYMONTH=11;BYDAY=1SU
END:STANDARD
END:VTIMEZONE
BEGIN:VEVENT
UID:1990010:Event:29126
DTSTAMP:20260422T050635Z
SUMMARY:Fostering Cognition through Bilingual Education in the 21stCen
 tury
DESCRIPTION:New York State Association for Bilingual Education\nInvite
 s you to attend and participate in our\n34th Annual Conference\nFoster
 ing Cognition through Bilingual Education in the 21stCentury  \nMarc
 h 3rd - 5th, 2011\nNew York LaGuardia Airport Marriott Hotel\n\nYou st
 ill have time to take advantage of\nEarly Bird Registration \nDEADLIN
 E HAS BEEN EXTENDED UNTIL\n February 11th, 2011\nFor more detailed in
 formation please visit our website: www.nysabe.net\n\nDEADLINES HAVE 
 ALSO BEEN EXTENDED FOR THE FOLLOWING:\n\nCall for Papers \nDeadline- 
 Monday, January 31st, 2011\n\nAward Nominations\nDeadline- Monday,  J
 anuary 31st, 2011\n\nStudent Essay & Art Contest \nDeadline - Monday,
  January 31st, 2011\n\nLooking forward to seeing you in March!!\n\n\n\
 n-- \nMaria Angélica Meyer\n \n34th Annual NYSABE Conference“Fost
 ering Cognition through Bilingual Education in the 21st Century”Mar
 ch 3rd-5th, 2011New York La Guardia Airport Marriott Hotel Conference
  Chairperson, 1st Vice President, Region I Delegate\n\nFor more info
 rmation visit https://schoolleadership20.com/events/fostering-cognitio
 n-through
DTSTART;TZID=America/New_York:20110303T000000
DTEND;TZID=America/New_York:20110305T235900
CATEGORIES:annual, conference
LOCATION:New York LaGuardia Airport Marriott Hotel
WEBSITE:http://www.nysabe.net
URL:http://www.nysabe.net
CONTACT:
ORGANIZER:NYSABE
ATTACH;FMTTYPE="image/jpeg":
ATTENDEE;ROLE=REQ-PARTICIPANT;PARTSTAT=ACCEPTED;RSVP=TRUE;CN="Michael 
 Keany":https://schoolleadership20.com/profile/MichaelKeany91
END:VEVENT
END:VCALENDAR
