BEGIN:VCALENDAR
PRODID:NingEventWidget-v1
VERSION:2.0
METHOD:PUBLISH
BEGIN:VTIMEZONE
TZID:America/New_York
X-LIC-LOCATION:America/New_York
BEGIN:DAYLIGHT
TZOFFSETFROM:-0500
TZOFFSETTO:-0400
TZNAME:EDT
DTSTART:19700308T020000
RRULE:FREQ=YEARLY;BYMONTH=3;BYDAY=2SU
END:DAYLIGHT
BEGIN:STANDARD
TZOFFSETFROM:-0400
TZOFFSETTO:-0500
TZNAME:EST
DTSTART:19701101T020000
RRULE:FREQ=YEARLY;BYMONTH=11;BYDAY=1SU
END:STANDARD
END:VTIMEZONE
BEGIN:VEVENT
UID:1990010:Event:145223
DTSTAMP:20260420T072200Z
SUMMARY:Finnish Educational Success: Hard Truths for the US Panel Pres
 entation and Moderated Discussion
DESCRIPTION:Finnish Educational Success: Hard Truths for the US\nPanel
  Presentation and Moderated Discussion\nMay 13, 2013\n4:00-6:00 p.m.\n
 Humanities Hall, room 119\nLIU-Post, Brookville, NY\nÂ \nFinnish schoo
 ls have been at the top of the international rankings for many years.Â
   What is the Finnish systemâ€™s formula for success?Â  This question 
 guided the investigation ofÂ  aÂ  2012Â  delegation of educators from 
 the public schools and from higher ed as they toured Finnish schools a
 nd university teacher preparation programs.Â  You areÂ  invited to thi
 s panel discussion to hear their findings and to engage in a lively di
 scussion about educational policies and practices here and abroad.Â  T
 he event, co-sponsored by the LIU-Post College of Education, Informati
 on and Technology and the School of Continuing Education, is free and 
 open to the public.Â  Please note that there is limited seating.\nInfo
 rmation? Â Contact Dr. Arnold Dodge -Â Â 516-299-2212Â orÂ Arnold.Dodg
 e@liu.edu\n\nTickets will be available starting Monday, April 8, 2013\
 nFor free tickets click here\n\nFor more information visit https://sch
 oolleadership20.com/events/finnish-educational-success-hard-truths-for
 -the-us-panel-presenta
DTSTART;TZID=America/New_York:20130513T160000
DTEND;TZID=America/New_York:20130513T180000
CATEGORIES:panel, presentation, and, moderated, discussion
LOCATION:Humanities Hall, room 119 LIU-Post, Brookville, NY
WEBSITE:
URL:
CONTACT:516-299-2212
ORGANIZER:LIU CW Post
ATTACH;FMTTYPE="image/jpeg":
ATTENDEE;ROLE=REQ-PARTICIPANT;PARTSTAT=ACCEPTED;RSVP=TRUE;CN="Michael 
 Keany":https://schoolleadership20.com/profile/MichaelKeany91
END:VEVENT
END:VCALENDAR
