BEGIN:VCALENDAR
PRODID:NingEventWidget-v1
VERSION:2.0
METHOD:PUBLISH
BEGIN:VTIMEZONE
TZID:America/New_York
X-LIC-LOCATION:America/New_York
BEGIN:DAYLIGHT
TZOFFSETFROM:-0500
TZOFFSETTO:-0400
TZNAME:EDT
DTSTART:19700308T020000
RRULE:FREQ=YEARLY;BYMONTH=3;BYDAY=2SU
END:DAYLIGHT
BEGIN:STANDARD
TZOFFSETFROM:-0400
TZOFFSETTO:-0500
TZNAME:EST
DTSTART:19701101T020000
RRULE:FREQ=YEARLY;BYMONTH=11;BYDAY=1SU
END:STANDARD
END:VTIMEZONE
BEGIN:VEVENT
UID:1990010:Event:15680
DTSTAMP:20260420T053955Z
SUMMARY:eTeaching through WiZiQ Virtual Classroom
DESCRIPTION:eTeaching through WiZiQ Virtual Classroom by Mark Cruthers
 \n\n\nGet your own Virtual Classroom\n\n\nFor more information visit h
 ttps://schoolleadership20.com/events/eteaching-through-wiziq
DTSTART;TZID=America/New_York:20090721T180000
DTEND;TZID=America/New_York:20090721T190000
CATEGORIES:virtual, classroom
LOCATION:WiZiQ
WEBSITE:http://www.wiziq.com/online-class/156641-eteaching-through-wiz
 iq-virtual-classroom
URL:http://www.wiziq.com/online-class/156641-eteaching-through-wiziq-v
 irtual-classroom
CONTACT:
ORGANIZER;CN="Mark Cruthers":https://schoolleadership20.com/profile/Ma
 rkCruthers
ATTACH;FMTTYPE="image/jpeg":http://storage.ning.com/topology/rest/1.0/
 file/get/2254125912?profile=original
ATTENDEE;ROLE=REQ-PARTICIPANT;PARTSTAT=ACCEPTED;RSVP=TRUE;CN="Mark Cru
 thers":https://schoolleadership20.com/profile/MarkCruthers
END:VEVENT
END:VCALENDAR
