BEGIN:VCALENDAR
PRODID:NingEventWidget-v1
VERSION:2.0
METHOD:PUBLISH
BEGIN:VTIMEZONE
TZID:America/New_York
X-LIC-LOCATION:America/New_York
BEGIN:DAYLIGHT
TZOFFSETFROM:-0500
TZOFFSETTO:-0400
TZNAME:EDT
DTSTART:19700308T020000
RRULE:FREQ=YEARLY;BYMONTH=3;BYDAY=2SU
END:DAYLIGHT
BEGIN:STANDARD
TZOFFSETFROM:-0400
TZOFFSETTO:-0500
TZNAME:EST
DTSTART:19701101T020000
RRULE:FREQ=YEARLY;BYMONTH=11;BYDAY=1SU
END:STANDARD
END:VTIMEZONE
BEGIN:VEVENT
UID:1990010:Event:35143
DTSTAMP:20260420T053924Z
SUMMARY:\"Energizing the Principalship\" Conference
DESCRIPTION:It is time to register for he 16th Annual \"Energizing the
  Principalship\" Conference at Danford's Inn in Port Jefferson. Limite
 d to Nassau HS Principals on LI . The conference will take place from 
 Tuesday, 28 June at 12:00 pm through Wednesday, 29 June @ 1:00 pm. You
  may register by using My Learning Plan as a member or non-member di
 strict.\nFor those who attend, this conference is a highlight of the y
 ear. Not only are we able to process all that has occurred over the co
 urse of the year, but we are able to plan the myriad of events for 201
 1-12. Over the past few years, we have welcomed several new participan
 ts at the conference; we hope to build on that momentum and get some m
 ore principals to join us. The food is great, the accommodations are f
 antastic, the company is top notch, and your concerns are shared by al
 l.\nPlease register today, as many districts are getting ready to clos
 e budgets.\nTo register, go to: www.mylearningplan.com\nOn the left s
 ide bar, click Nas. BOCES (under Activity Catalogues)\nChange the date
  to something closer to the start of the conference.\nSean C. Feeney 
 Principal The Wheatley School 11 Bacon Road Old Westbury, NY  1156
 8 516.333.7816 \n\nFor more information visit https://schoolleadersh
 ip20.com/events/energizing-the-principalship
DTSTART;TZID=America/New_York:20110628T120000
DTEND;TZID=America/New_York:20110629T130000
CATEGORIES:conference
LOCATION:Danford's Inn in Port Jefferson
WEBSITE:
URL:
CONTACT:516.333.7816
ORGANIZER:Nassau Suffolk HS Principals
ATTACH;FMTTYPE="image/jpeg":
ATTENDEE;ROLE=REQ-PARTICIPANT;PARTSTAT=ACCEPTED;RSVP=TRUE;CN="Michael 
 Keany":https://schoolleadership20.com/profile/MichaelKeany91
END:VEVENT
END:VCALENDAR
