BEGIN:VCALENDAR
PRODID:NingEventWidget-v1
VERSION:2.0
METHOD:PUBLISH
BEGIN:VTIMEZONE
TZID:America/New_York
X-LIC-LOCATION:America/New_York
BEGIN:DAYLIGHT
TZOFFSETFROM:-0500
TZOFFSETTO:-0400
TZNAME:EDT
DTSTART:19700308T020000
RRULE:FREQ=YEARLY;BYMONTH=3;BYDAY=2SU
END:DAYLIGHT
BEGIN:STANDARD
TZOFFSETFROM:-0400
TZOFFSETTO:-0500
TZNAME:EST
DTSTART:19701101T020000
RRULE:FREQ=YEARLY;BYMONTH=11;BYDAY=1SU
END:STANDARD
END:VTIMEZONE
BEGIN:VEVENT
UID:1990010:Event:172915
DTSTAMP:20260422T051534Z
SUMMARY:ELA 3-8 Curriculum Module Users' Collegial Circle - Teaching t
 he Core Means Studying the Core - (Teachers)
DESCRIPTION:Join curric module conversations-exchange ideas. Effective
  \nAudience: Lead Teachers/Coaches, Classroom Teachers, Support Teac
 hers\nDates: 10/23/2013 and 3 more throughout the year\nExplore the c
 all to impact teaching and learning charged by the NYS Common Core ini
 tiative and the role teachers as learners play in the effective implem
 entation of the CCLS in ELA. Four after school collegial circles throu
 ghout the year will center on ways to deepen students' learning of the
  Common Core through the implementation of the curriculum modules. Foc
 used topics and collegial discussions led by Carol Varsalona will exam
 ine steps to support students on the trajectory for college and career
  readiness. Subject matter includes: core components of CCLS, instruct
 ional shifts in ELA, the impact of growth mindset on the culture of ac
 hievement, reflective practices and protocols, effective curriculum an
 d instruction practices embedded in the modules, the practice of adapt
 ing or adopting the modules, fidelity of practice, and growth-producin
 g feedback. Join the conversation and exchange ideas with other teache
 rs in a field that celebrates achievement on Long Island. Teaching the
  Core Means Studying the Core:  Alignment of CCLS & Instructional S
 hifts/Subshifts in ELA Curriculum  Implementation of Learning Targe
 ts & Reflective Practices/Protocols  Demands of Teachers on Changin
 g the Trajectory of Teaching and Learning flyer: http://www.wsboces.or
 g/library/pdfs/iss2853.pdf\n\nFor more information visit https://schoo
 lleadership20.com/events/ela-3-8-curriculum-module-users-collegial-cir
 cle-teaching-the-1
DTSTART;TZID=America/New_York:20131023T160000
DTEND;TZID=America/New_York:20131023T180000
CATEGORIES:professional, development, program, -, series, of, 4, colle
 gial, circles
LOCATION:Western Suffolk BOCES
WEBSITE:http://wsboces.org/webreg
URL:http://wsboces.org/webreg
CONTACT:
ORGANIZER:Carol Varsalona for WS BOCES Professional Development Progra
 m
ATTACH;FMTTYPE="image/jpeg":
ATTENDEE;ROLE=REQ-PARTICIPANT;PARTSTAT=ACCEPTED;RSVP=TRUE;CN="Carol Va
 rsalona":https://schoolleadership20.com/profile/CarolVarsalona
END:VEVENT
END:VCALENDAR
