BEGIN:VCALENDAR
PRODID:NingEventWidget-v1
VERSION:2.0
METHOD:PUBLISH
BEGIN:VTIMEZONE
TZID:America/New_York
X-LIC-LOCATION:America/New_York
BEGIN:DAYLIGHT
TZOFFSETFROM:-0500
TZOFFSETTO:-0400
TZNAME:EDT
DTSTART:19700308T020000
RRULE:FREQ=YEARLY;BYMONTH=3;BYDAY=2SU
END:DAYLIGHT
BEGIN:STANDARD
TZOFFSETFROM:-0400
TZOFFSETTO:-0500
TZNAME:EST
DTSTART:19701101T020000
RRULE:FREQ=YEARLY;BYMONTH=11;BYDAY=1SU
END:STANDARD
END:VTIMEZONE
BEGIN:VEVENT
UID:1990010:Event:217496
DTSTAMP:20260419T081938Z
SUMMARY:Educating All: Addressing Issues and Overcoming Challenges - C
 onference Canceled
DESCRIPTION:Conference Canceled!\n\n\nJoin us for our Third Annual Edu
 cating All Conference with Keynote Speaker John Elder Robison an autis
 tic adult, author and Neurodiversity Scholar.\nConference Workshops in
 clude: Fitness and Autism, Developmental Disabilities, Why Creating Ar
 t Heals Us,  Assistive Technology, Speech and Language and much more.
  Teachers can earn 3 CEU's. \nRegistration flyer:\n2014%20Conference%
 20Brochure%20-3.pdf\n\nFor more information visit https://schoolleader
 ship20.com/events/educating-all-addressing-issues-and-overcoming-chall
 enges
DTSTART;TZID=America/New_York:20141107T080000
DTEND;TZID=America/New_York:20141107T153000
CATEGORIES:conference
LOCATION:St. Joseph's College
WEBSITE:http://￼￼￼￼￼￼http://goo.gl/2ZlYHk
URL:http://￼￼￼￼￼￼http://goo.gl/2ZlYHk
CONTACT:516 870-1661
ORGANIZER:St. Joseph's College and Family Residences and Essential Ent
 erprises, Inc.
ATTACH;FMTTYPE="image/jpeg":
ATTENDEE;ROLE=REQ-PARTICIPANT;PARTSTAT=ACCEPTED;RSVP=TRUE;CN="Karen Me
 gay-Nespoli":https://schoolleadership20.com/profile/KarenMegayNespoli
END:VEVENT
END:VCALENDAR
