BEGIN:VCALENDAR
PRODID:NingEventWidget-v1
VERSION:2.0
METHOD:PUBLISH
BEGIN:VTIMEZONE
TZID:America/New_York
X-LIC-LOCATION:America/New_York
BEGIN:DAYLIGHT
TZOFFSETFROM:-0500
TZOFFSETTO:-0400
TZNAME:EDT
DTSTART:19700308T020000
RRULE:FREQ=YEARLY;BYMONTH=3;BYDAY=2SU
END:DAYLIGHT
BEGIN:STANDARD
TZOFFSETFROM:-0400
TZOFFSETTO:-0500
TZNAME:EST
DTSTART:19701101T020000
RRULE:FREQ=YEARLY;BYMONTH=11;BYDAY=1SU
END:STANDARD
END:VTIMEZONE
BEGIN:VEVENT
UID:1990010:Event:206426
DTSTAMP:20260420T071919Z
SUMMARY:EdcampLI
DESCRIPTION:The first Edcamp on LI. It is an Unconference. It is free.
  It is a grassroots PD Conference run by educators with NO vendors.\n\
 nEdcamp Long Island is an \"unconference\" devoted to K-12 Education 
 issues and ideas.  Free learnin' all day... you can't beat that!  Jo
 in passionate educators from across Long Island, NYC, New Jersey, Conn
 ecticut, Pennsylvania, New England, England, New Zealand, Old Zealand,
  the south, the north, the equator, ... at this first ever event on Lo
 ng Island devoted to LEARNING! \n\nFor more information visit https:/
 /schoolleadership20.com/events/edcampli
DTSTART;TZID=America/New_York:20140913T080000
DTEND;TZID=America/New_York:20140913T153000
CATEGORIES:unconference
LOCATION:The Wheatly School
WEBSITE:https://www.eventbrite.com/e/edcamp-long-island-tickets-116416
 83589?utm_campaign=order_confirm&ref=eemailordconf&utm_medium=email&ut
 m_source=eb_email&utm_term=eventname
URL:https://www.eventbrite.com/e/edcamp-long-island-tickets-1164168358
 9?utm_campaign=order_confirm&ref=eemailordconf&utm_medium=email&utm_so
 urce=eb_email&utm_term=eventname
CONTACT:
ORGANIZER:
ATTACH;FMTTYPE="image/jpeg":
ATTENDEE;ROLE=REQ-PARTICIPANT;PARTSTAT=ACCEPTED;RSVP=TRUE;CN="Tom Whit
 by":https://schoolleadership20.com/profile/TomWhitby
ATTENDEE;ROLE=REQ-PARTICIPANT;PARTSTAT=TENTATIVE;RSVP=TRUE;CN="Adam Be
 llow":https://schoolleadership20.com/profile/AdamBellow
END:VEVENT
END:VCALENDAR
